Workbook

Sheet Cenário Único
E1: Regime tributário
E2: Selecione! | F2: Lucro Presumido
E3: CNAE 7820-5/00 — Locação de Mão de Obra Temporária - Item 17.05 LC116
A4: PLANILHA DE CUSTOS E FORMAÇÃO DE PREÇOS
A5: QUADRO RESUMO DO CUSTO POR PERFIL - Alocado no Cliente / Equipamento fornecido pelo Cliente
A6: SALÁRIO E ENCARGOS | C6: Lucro Presumido | D6: Lucro Real | E6: ATENDENTE GENÉRICO | H6: ATENDENTE ESPECIALIZADO | K6: ANALISTA DE EXPERIÊNCIA | N6: ANALISTA DE SERVIÇOS | Q6: SUPERVISOR | T6: ANALISTA DE PROJETOS | W6: ESPECIALISTA | Z6: ANALISTA DE SEGURANÇA DA INFORMAÇÃO 1 | AC6: ANALISTA DE SEGURANÇA DA INFORMAÇÃO 2 | AF6: ANALISTA DE SEGURANÇA DA INFORMAÇÃO 3 | AI6: ESPECIALISTA DE SEGURANÇA DA INFORMAÇÃO | AL6: LÍDER TÉCNICO DE SEGURANÇA DA INFORMAÇÃO - OPERAÇÃO | AO6: LÍDER TÉCNICO DE SEGURANÇA DA INFORMAÇÃO - CORE | AR6: ANALISTA DE NEGÓCIOS | AU6: ANALISTA DE PROCESSOS | AX6: ANALISTA DE TELECOMUNICAÇÕES | AZ6: ANALISTA DE SUPORTE NOC N1 | BC6: ANALISTA DE SUPORTE NOC N2 - BACKBONE | BF6: ANALISTA DE SUPORTE NOC N2 - METRO | BI6: ANALISTA DE SUPORTE NOC N2 - TX | BL6: SUPERVISOR DE TURNO NOC | BO6: ANALISTA DE SUPORTE - OSS | BR6: ASSISTENTE TÉCNICO | BU6: ANALISTA DE QUALIDADE (AQ)
E7: AT-01 | F7: AT-02 | G7: AT-03 | H7: ATE-01 | I7: ATE-02 | J7: ATE-03 | K7: ACX-01 | L7: ACX-02 | M7: ACX-03 | N7: TI-01 | O7: TI-02 | P7: TI-03 | Q7: LID-02 | R7: LID-03 | S7: LID-04 | T7: AP-01 | U7: AP-02 | V7: AP-03 | W7: ESP-01 | X7: ESP-02 | Y7: ESP-03 | Z7: SEG-01.1 | AA7: SEG-01.2 | AB7: SEG-01.3 | AC7: SEG-02.1 | AD7: SEG-02.2 | AE7: SEG-02.3 | AF7: SEG-03.1 | AG7: SEG-03.2 | AH7: SEG-03.3 | AI7: SEGESP-01 | AJ7: SEGESP-02 | AK7: SEGESP-03 | AL7: SEGLTO-01 | AM7: SEGLTO-02 | AN7: SEGLTO-03 | AO7: SEGLTC-01 | AP7: SEGLTC-02 | AQ7: SEGLTC-03 | AR7: AN-01 | AS7: AN-02 | AT7: AN-03 | AU7: APC-01 | AV7: APC-02 | AW7: APC-03 | AX7: ATC-01 | AY7: ATC-02 | AZ7: ASN1-01 | BA7: ASN1-02 | BB7: ASN1-03 | BC7: ASN2-01-BK | BD7: ASN2-02-BK | BE7: ASN2-03-BK | BF7: ASN2-01-MT | BG7: ASN2-02-MT | BH7: ASN2-03-MT | BI7: ASN2-01-TX | BJ7: ASN2-02-TX | BK7: ASN2-03-TX | BL7: SNOC-01 | BM7: SNOC-02 | BN7: SNOC-03 | BO7: AOSS-01 | BP7: AOSS-02 | BQ7: AOSS-03 | BR7: AT-01 | BS7: AT-02 | BT7: AT-03 | BU7: AQ-01 | BV7: AQ-02 | BW7: AQ-03
E8: JÚNIOR | F8: PLENO | G8: SÊNIOR | H8: JÚNIOR | I8: PLENO | J8: SÊNIOR | K8: JÚNIOR | L8: PLENO | M8: SÊNIOR | N8: JÚNIOR | O8: PLENO | P8: SÊNIOR | Q8: JÚNIOR | R8: PLENO | S8: SÊNIOR | T8: JÚNIOR | U8: PLENO | V8: SÊNIOR | W8: JÚNIOR | X8: PLENO | Y8: SÊNIOR | Z8: JÚNIOR | AA8: PLENO | AB8: SÊNIOR | AC8: JÚNIOR | AD8: PLENO | AE8: SÊNIOR | AF8: JÚNIOR | AG8: PLENO | AH8: SÊNIOR | AI8: NÍVEL 1 | AJ8: NÍVEL 2 | AK8: NÍVEL 3 | AL8: NÍVEL 1 | AM8: NÍVEL 2 | AN8: NÍVEL 3 | AO8: NÍVEL 1 | AP8: NÍVEL 2 | AQ8: NÍVEL 3 | AR8: JÚNIOR | AS8: PLENO | AT8: SÊNIOR | AU8: JÚNIOR | AV8: PLENO | AW8: SÊNIOR | AX8: JÚNIOR | AY8: PLENO | AZ8: JÚNIOR | BA8: PLENO | BB8: SÊNIOR | BC8: JÚNIOR | BD8: PLENO | BE8: SÊNIOR | BF8: JÚNIOR | BG8: PLENO | BH8: SÊNIOR | BI8: JÚNIOR | BJ8: PLENO | BK8: SÊNIOR | BL8: JÚNIOR | BM8: PLENO | BN8: SÊNIOR | BO8: JÚNIOR | BP8: PLENO | BQ8: SÊNIOR | BR8: JÚNIOR | BS8: PLENO | BT8: SÊNIOR | BU8: JÚNIOR | BV8: PLENO | BW8: SÊNIOR
B9: Jornada | E9: 12x36 | F9: 12x36 | G9: 12x36 | H9: 12x36 ou 8x5 | I9: 12x36 ou 8x5 | J9: 12x36 ou 8x5 | K9: 8x5 | L9: 8x5 | M9: 8x5 | N9: 8x5 | O9: 8x5 | P9: 8x5 | Q9: 8x5 | R9: 8x5 | S9: 8x5 | T9: 8x5 | U9: 8x5 | V9: 8x5 | W9: 8x5 | X9: 8x5 | Y9: 8x5 | Z9: 12x36 ou 8x5 | AA9: 12x36 ou 8x5 | AB9: 8x5 | AC9: 12x36 ou 8x5 | AD9: 12x36 ou 8x5 | AE9: 8x5 | AF9: 12x36 ou 8x5 | AG9: 12x36 ou 8x5 | AH9: 8x5 | AI9: 8x5 | AJ9: 8x5 | AK9: 8x5 | AL9: 8x5 | AM9: 8x5 | AN9: 8x5 | AO9: 8x5 | AP9: 8x5 | AQ9: 8x5 | AR9: 8x5 | AS9: 8x5 | AT9: 8x5 | AU9: 8x5 | AV9: 8x5 | AW9: 8x5 | AX9: 8x5 | AY9: 8x5 | AZ9: 12x36 | BA9: 12x36 | BB9: 12x36 | BC9: 8x5 | BD9: 8x5 | BE9: 8x5 | BF9: 8x5 | BG9: 8x5 | BH9: 8x5 | BI9: 8x5 | BJ9: 8x5 | BK9: 8x5 | BL9: 8x5 | BM9: 8x5 | BN9: 8x5 | BO9: 8x5 | BP9: 8x5 | BQ9: 8x5 | BR9: 8x5 | BS9: 8x5 | BT9: 8x5 | BU9: 8x5 | BV9: 8x5 | BW9: 8x5
B10: Salario base | E10: 1711.3 | F10: 1824.97 | G10: 1939.48 | H10: 3080.34 | I10: 3193.71 | J10: 3308.52 | K10: 4200 | L10: 6300 | M10: 8400 | N10: 5019.82 | O10: 5647.29 | P10: 7350 | Q10: 7350 | R10: 8925 | S10: 9975 | T10: 4563.47 | U10: 5704.34 | V10: 7350 | W10: 11500 | X10: 12977.08 | Y10: 14000 | Z10: 5460 | AA10: 8037.84 | AB10: 11007.32 | AC10: 6211.3 | AD10: 9005.84 | AE10: 11700.68 | AF10: 6983.98 | AG10: 9954.15 | AH10: 12526.48 | AI10: 13579.91 | AJ10: 14489.77 | AK10: 15512.75 | AL10: 16288.39 | AM10: 17379.71 | AN10: 18606.7 | AO10: 16288.39 | AP10: 17379.71 | AQ10: 18606.7 | AR10: 4346.16 | AS10: 5432.7 | AT10: 7000 | AU10: 4346.16 | AV10: 5432.7 | AW10: 7000 | AX10: 4780.78 | AY10: 5378.37 | AZ10: 3480 | BA10: 3950 | BB10: 4300 | BC10: 5600 | BD10: 6100 | BE10: 6700 | BF10: 4500 | BG10: 5000 | BH10: 5300 | BI10: 4600 | BJ10: 5400 | BK10: 6200 | BL10: 5100 | BM10: 5900 | BN10: 6700 | BO10: 4200 | BP10: 4800 | BQ10: 5400 | BR10: 2500 | BS10: 2750 | BT10: 3025 | BU10: 3649.96 | BV10: 4014.95 | BW10: 4416.45
B12: Remuneração | C12: Percentual Encargo | D12: Percentual Encargo
B13: Provisão de 13º (bruta) | D13: Não se aplica | E13: =$E$10*C13 -> 0 | F13: =$F$10*C13 -> 0 | G13: =$G$10*C13 -> 0 | H13: =$H$10*C13 -> 0 | I13: =$I$10*C13 -> 0 | J13: =$J$10*C13 -> 0 | K13: =$K$10*C13 -> 0 | L13: =$L$10*C13 -> 0 | M13: =$M$10*C13 -> 0 | N13: =$N$10*C13 -> 0 | O13: =$O$10*C13 -> 0 | P13: =$P$10*C13 -> 0 | Q13: =$Q$10*C13 -> 0 | R13: =$R$10*C13 -> 0 | S13: =$S$10*C13 -> 0 | T13: =$T$10*C13 -> 0 | U13: =$U$10*C13 -> 0 | V13: =$V$10*C13 -> 0 | W13: =W10*C13 -> 0 | X13: =$X$10*C13 -> 0 | Y13: =$Y$10*C13 -> 0 | Z13: =$Z$10*C13 -> 0 | AA13: =$AA$10*C13 -> 0 | AB13: =$AB$10*C13 -> 0 | AC13: =$AC$10*C13 -> 0 | AD13: =$AD$10*C13 -> 0 | AE13: =AE10*C13 -> 0 | AF13: =$AF$10*C13 -> 0 | AG13: =$AG$10*C13 -> 0 | AH13: =$AH$10*C13 -> 0 | AI13: =$AI$10*C13 -> 0 | AJ13: =$AJ$10*C13 -> 0 | AK13: =$AK$10*C13 -> 0 | AL13: =$AL$10*C13 -> 0 | AM13: =$AM$10*C13 -> 0 | AN13: =$AN$10*C13 -> 0 | AO13: =$AO$10*C13 -> 0 | AP13: =$AP$10*C13 -> 0 | AQ13: =$AQ$10*C13 -> 0 | AR13: =$AR$10*C13 -> 0 | AS13: =$AS$10*C13 -> 0 | AT13: =$AT$10*C13 -> 0 | AU13: =$AU$10*C13 -> 0 | AV13: =$AV$10*C13 -> 0 | AW13: =$AW$10*C13 -> 0 | AX13: =$AX$10*C13 -> 0 | AY13: =$AY$10*C13 -> 0 | AZ13: =$AZ$10*C13 -> 0 | BA13: =$BA$10*C13 -> 0 | BB13: =$BB$10*C13 -> 0 | BC13: =$BC$10*C13 -> 0 | BD13: =$BD$10*C13 -> 0 | BE13: =$BE$10*C13 -> 0 | BF13: =$BF$10*C13 -> 0 | BG13: =$BG$10*C13 -> 0 | BH13: =$BH$10*C13 -> 0 | BI13: =$BI$10*C13 -> 0 | BJ13: =$BJ$10*C13 -> 0 | BK13: =$BK$10*C13 -> 0 | BL13: =$BL$10*C13 -> 0 | BM13: =$BM$10*C13 -> 0 | BN13: =$BN$10*C13 -> 0 | BO13: =$BO$10*C13 -> 0 | BP13: =$BP$10*C13 -> 0 | BQ13: =$BQ$10*C13 -> 0 | BR13: =$BR$10*C13 -> 0 | BS13: =$BS$10*C13 -> 0 | BT13: =$BT$10*C13 -> 0 | BU13: =$BU$10*C13 -> 0 | BV13: =$BV$10*C13 -> 0 | BW13: =$BW$10*C13 -> 0
B14: Provisão de Férias (bruta) acrescidas de 1/3 constitucional | D14: Não se aplica | E14: =$E$10*C14 -> 0 | F14: =$F$10*C14 -> 0 | G14: =$G$10*C14 -> 0 | H14: =$H$10*C14 -> 0 | I14: =$I$10*C14 -> 0 | J14: =$J$10*C14 -> 0 | K14: =$K$10*C14 -> 0 | L14: =$L$10*C14 -> 0 | M14: =$M$10*C14 -> 0 | N14: =$N$10*C14 -> 0 | O14: =$O$10*C14 -> 0 | P14: =$P$10*C14 -> 0 | Q14: =$Q$10*C14 -> 0 | R14: =$R$10*C14 -> 0 | S14: =$S$10*C14 -> 0 | T14: =$T$10*C14 -> 0 | U14: =$U$10*C14 -> 0 | V14: =$V$10*C14 -> 0 | W14: =W13*C14 -> 0 | X14: =$X$10*C14 -> 0 | Y14: =$Y$10*C14 -> 0 | Z14: =$Z$10*C14 -> 0 | AA14: =$AA$10*C14 -> 0 | AB14: =$AB$10*C14 -> 0 | AC14: =$AC$10*C14 -> 0 | AD14: =$AD$10*C14 -> 0 | AE14: =AE13*C14 -> 0 | AF14: =$AF$10*C14 -> 0 | AG14: =$AG$10*C14 -> 0 | AH14: =$AH$10*C14 -> 0 | AI14: =$AI$10*C14 -> 0 | AJ14: =$AJ$10*C14 -> 0 | AK14: =$AK$10*C14 -> 0 | AL14: =$AL$10*C14 -> 0 | AM14: =$AM$10*C14 -> 0 | AN14: =$AN$10*C14 -> 0 | AO14: =$AO$10*C14 -> 0 | AP14: =$AP$10*C14 -> 0 | AQ14: =$AQ$10*C14 -> 0 | AR14: =$AR$10*C14 -> 0 | AS14: =$AS$10*C14 -> 0 | AT14: =$AT$10*C14 -> 0 | AU14: =$AU$10*C14 -> 0 | AV14: =$AV$10*C14 -> 0 | AW14: =$AW$10*C14 -> 0 | AX14: =$AX$10*C14 -> 0 | AY14: =$AY$10*C14 -> 0 | AZ14: =$AZ$10*C14 -> 0 | BA14: =$BA$10*C14 -> 0 | BB14: =$BB$10*C14 -> 0 | BC14: =$BC$10*C14 -> 0 | BD14: =$BD$10*C14 -> 0 | BE14: =$BE$10*C14 -> 0 | BF14: =$BF$10*C14 -> 0 | BG14: =$BG$10*C14 -> 0 | BH14: =$BH$10*C14 -> 0 | BI14: =$BI$10*C14 -> 0 | BJ14: =$BJ$10*C14 -> 0 | BK14: =$BK$10*C14 -> 0 | BL14: =$BL$10*C14 -> 0 | BM14: =$BM$10*C14 -> 0 | BN14: =$BN$10*C14 -> 0 | BO14: =$BO$10*C14 -> 0 | BP14: =$BP$10*C14 -> 0 | BQ14: =$BQ$10*C14 -> 0 | BR14: =$BR$10*C14 -> 0 | BS14: =$BS$10*C14 -> 0 | BT14: =$BT$10*C14 -> 0 | BU14: =$BU$10*C14 -> 0 | BV14: =$BV$10*C14 -> 0 | BW14: =$BW$10*C14 -> 0
B15: Provisão de risco de rescisão (Aviso prévio Indenizado + Multa 40% FGTS) | D15: Não se aplica | E15: =$E$10*C15 -> 0 | F15: =$F$10*C15 -> 0 | G15: =$G$10*C15 -> 0 | H15: =$H$10*C15 -> 0 | I15: =$I$10*C15 -> 0 | J15: =$J$10*C15 -> 0 | K15: =$K$10*C15 -> 0 | L15: =$L$10*C15 -> 0 | M15: =$M$10*C15 -> 0 | N15: =$N$10*C15 -> 0 | O15: =$O$10*C15 -> 0 | P15: =$P$10*C15 -> 0 | Q15: =$Q$10*C15 -> 0 | R15: =$R$10*C15 -> 0 | S15: =$S$10*C15 -> 0 | T15: =$T$10*C15 -> 0 | U15: =$U$10*C15 -> 0 | V15: =$V$10*C15 -> 0 | W15: =W14*C15 -> 0 | X15: =$X$10*C15 -> 0 | Y15: =$Y$10*C15 -> 0 | Z15: =$Z$10*C15 -> 0 | AA15: =$AA$10*C15 -> 0 | AB15: =$AB$10*C15 -> 0 | AC15: =$AC$10*C15 -> 0 | AD15: =$AD$10*C15 -> 0 | AE15: =AE14*C15 -> 0 | AF15: =$AF$10*C15 -> 0 | AG15: =$AG$10*C15 -> 0 | AH15: =$AH$10*C15 -> 0 | AI15: =$AI$10*C15 -> 0 | AJ15: =$AJ$10*C15 -> 0 | AK15: =$AK$10*C15 -> 0 | AL15: =$AL$10*C15 -> 0 | AM15: =$AM$10*C15 -> 0 | AN15: =$AN$10*C15 -> 0 | AO15: =$AO$10*C15 -> 0 | AP15: =$AP$10*C15 -> 0 | AQ15: =$AQ$10*C15 -> 0 | AR15: =$AR$10*C15 -> 0 | AS15: =$AS$10*C15 -> 0 | AT15: =$AT$10*C15 -> 0 | AU15: =$AU$10*C15 -> 0 | AV15: =$AV$10*C15 -> 0 | AW15: =$AW$10*C15 -> 0 | AX15: =$AX$10*C15 -> 0 | AY15: =$AY$10*C15 -> 0 | AZ15: =$AZ$10*C15 -> 0 | BA15: =$BA$10*C15 -> 0 | BB15: =$BB$10*C15 -> 0 | BC15: =$BC$10*C15 -> 0 | BD15: =$BD$10*C15 -> 0 | BE15: =$BE$10*C15 -> 0 | BF15: =$BF$10*C15 -> 0 | BG15: =$BG$10*C15 -> 0 | BH15: =$BH$10*C15 -> 0 | BI15: =$BI$10*C15 -> 0 | BJ15: =$BJ$10*C15 -> 0 | BK15: =$BK$10*C15 -> 0 | BL15: =$BL$10*C15 -> 0 | BM15: =$BM$10*C15 -> 0 | BN15: =$BN$10*C15 -> 0 | BO15: =$BO$10*C15 -> 0 | BP15: =$BP$10*C15 -> 0 | BQ15: =$BQ$10*C15 -> 0 | BR15: =$BR$10*C15 -> 0 | BS15: =$BS$10*C15 -> 0 | BT15: =$BT$10*C15 -> 0 | BU15: =$BU$10*C15 -> 0 | BV15: =$BV$10*C15 -> 0 | BW15: =$BW$10*C15 -> 0
B16: FGTS / Salário | D16: Não se aplica | E16: =$E$10*C16 -> 0 | F16: =$F$10*C16 -> 0 | G16: =$G$10*C16 -> 0 | H16: =$H$10*C16 -> 0 | I16: =$I$10*C16 -> 0 | J16: =$J$10*C16 -> 0 | K16: =$K$10*C16 -> 0 | L16: =$L$10*C16 -> 0 | M16: =$M$10*C16 -> 0 | N16: =$N$10*C16 -> 0 | O16: =$O$10*C16 -> 0 | P16: =$P$10*C16 -> 0 | Q16: =$Q$10*C16 -> 0 | R16: =$R$10*C16 -> 0 | S16: =$S$10*C16 -> 0 | T16: =$T$10*C16 -> 0 | U16: =$U$10*C16 -> 0 | V16: =$V$10*C16 -> 0 | W16: =W15*C16 -> 0 | X16: =$X$10*C16 -> 0 | Y16: =$Y$10*C16 -> 0 | Z16: =$Z$10*C16 -> 0 | AA16: =$AA$10*C16 -> 0 | AB16: =$AB$10*C16 -> 0 | AC16: =$AC$10*C16 -> 0 | AD16: =$AD$10*C16 -> 0 | AE16: =AE15*C16 -> 0 | AF16: =$AF$10*C16 -> 0 | AG16: =$AG$10*C16 -> 0 | AH16: =$AH$10*C16 -> 0 | AI16: =$AI$10*C16 -> 0 | AJ16: =$AJ$10*C16 -> 0 | AK16: =$AK$10*C16 -> 0 | AL16: =$AL$10*C16 -> 0 | AM16: =$AM$10*C16 -> 0 | AN16: =$AN$10*C16 -> 0 | AO16: =$AO$10*C16 -> 0 | AP16: =$AP$10*C16 -> 0 | AQ16: =$AQ$10*C16 -> 0 | AR16: =$AR$10*C16 -> 0 | AS16: =$AS$10*C16 -> 0 | AT16: =$AT$10*C16 -> 0 | AU16: =$AU$10*C16 -> 0 | AV16: =$AV$10*C16 -> 0 | AW16: =$AW$10*C16 -> 0 | AX16: =$AX$10*C16 -> 0 | AY16: =$AY$10*C16 -> 0 | AZ16: =$AZ$10*C16 -> 0 | BA16: =$BA$10*C16 -> 0 | BB16: =$BB$10*C16 -> 0 | BC16: =$BC$10*C16 -> 0 | BD16: =$BD$10*C16 -> 0 | BE16: =$BE$10*C16 -> 0 | BF16: =$BF$10*C16 -> 0 | BG16: =$BG$10*C16 -> 0 | BH16: =$BH$10*C16 -> 0 | BI16: =$BI$10*C16 -> 0 | BJ16: =$BJ$10*C16 -> 0 | BK16: =$BK$10*C16 -> 0 | BL16: =$BL$10*C16 -> 0 | BM16: =$BM$10*C16 -> 0 | BN16: =$BN$10*C16 -> 0 | BO16: =$BO$10*C16 -> 0 | BP16: =$BP$10*C16 -> 0 | BQ16: =$BQ$10*C16 -> 0 | BR16: =$BR$10*C16 -> 0 | BS16: =$BS$10*C16 -> 0 | BT16: =$BT$10*C16 -> 0 | BU16: =$BU$10*C16 -> 0 | BV16: =$BV$10*C16 -> 0 | BW16: =$BW$10*C16 -> 0
B17: FGTS / 13º | D17: Não se aplica | E17: =$E$10*C17 -> 0 | F17: =$F$10*C17 -> 0 | G17: =$G$10*C17 -> 0 | H17: =$H$10*C17 -> 0 | I17: =$I$10*C17 -> 0 | J17: =$J$10*C17 -> 0 | K17: =$K$10*C17 -> 0 | L17: =$L$10*C17 -> 0 | M17: =$M$10*C17 -> 0 | N17: =$N$10*C17 -> 0 | O17: =$O$10*C17 -> 0 | P17: =$P$10*C17 -> 0 | Q17: =$Q$10*C17 -> 0 | R17: =$R$10*C17 -> 0 | S17: =$S$10*C17 -> 0 | T17: =$T$10*C17 -> 0 | U17: =$U$10*C17 -> 0 | V17: =$V$10*C17 -> 0 | W17: =W16*C17 -> 0 | X17: =$X$10*C17 -> 0 | Y17: =$Y$10*C17 -> 0 | Z17: =$Z$10*C17 -> 0 | AA17: =$AA$10*C17 -> 0 | AB17: =$AB$10*C17 -> 0 | AC17: =$AC$10*C17 -> 0 | AD17: =$AD$10*C17 -> 0 | AE17: =AE16*C17 -> 0 | AF17: =$AF$10*C17 -> 0 | AG17: =$AG$10*C17 -> 0 | AH17: =$AH$10*C17 -> 0 | AI17: =$AI$10*C17 -> 0 | AJ17: =$AJ$10*C17 -> 0 | AK17: =$AK$10*C17 -> 0 | AL17: =$AL$10*C17 -> 0 | AM17: =$AM$10*C17 -> 0 | AN17: =$AN$10*C17 -> 0 | AO17: =$AO$10*C17 -> 0 | AP17: =$AP$10*C17 -> 0 | AQ17: =$AQ$10*C17 -> 0 | AR17: =$AR$10*C17 -> 0 | AS17: =$AS$10*C17 -> 0 | AT17: =$AT$10*C17 -> 0 | AU17: =$AU$10*C17 -> 0 | AV17: =$AV$10*C17 -> 0 | AW17: =$AW$10*C17 -> 0 | AX17: =$AX$10*C17 -> 0 | AY17: =$AY$10*C17 -> 0 | AZ17: =$AZ$10*C17 -> 0 | BA17: =$BA$10*C17 -> 0 | BB17: =$BB$10*C17 -> 0 | BC17: =$BC$10*C17 -> 0 | BD17: =$BD$10*C17 -> 0 | BE17: =$BE$10*C17 -> 0 | BF17: =$BF$10*C17 -> 0 | BG17: =$BG$10*C17 -> 0 | BH17: =$BH$10*C17 -> 0 | BI17: =$BI$10*C17 -> 0 | BJ17: =$BJ$10*C17 -> 0 | BK17: =$BK$10*C17 -> 0 | BL17: =$BL$10*C17 -> 0 | BM17: =$BM$10*C17 -> 0 | BN17: =$BN$10*C17 -> 0 | BO17: =$BO$10*C17 -> 0 | BP17: =$BP$10*C17 -> 0 | BQ17: =$BQ$10*C17 -> 0 | BR17: =$BR$10*C17 -> 0 | BS17: =$BS$10*C17 -> 0 | BT17: =$BT$10*C17 -> 0 | BU17: =$BU$10*C17 -> 0 | BV17: =$BV$10*C17 -> 0 | BW17: =$BW$10*C17 -> 0
B18: FGTS / Férias | D18: Não se aplica | E18: =$E$10*C18 -> 0 | F18: =$F$10*C18 -> 0 | G18: =$G$10*C18 -> 0 | H18: =$H$10*C18 -> 0 | I18: =$I$10*C18 -> 0 | J18: =$J$10*C18 -> 0 | K18: =$K$10*C18 -> 0 | L18: =$L$10*C18 -> 0 | M18: =$M$10*C18 -> 0 | N18: =$N$10*C18 -> 0 | O18: =$O$10*C18 -> 0 | P18: =$P$10*C18 -> 0 | Q18: =$Q$10*C18 -> 0 | R18: =$R$10*C18 -> 0 | S18: =$S$10*C18 -> 0 | T18: =$T$10*C18 -> 0 | U18: =$U$10*C18 -> 0 | V18: =$V$10*C18 -> 0 | W18: =W17*C18 -> 0 | X18: =$X$10*C18 -> 0 | Y18: =$Y$10*C18 -> 0 | Z18: =$Z$10*C18 -> 0 | AA18: =$AA$10*C18 -> 0 | AB18: =$AB$10*C18 -> 0 | AC18: =$AC$10*C18 -> 0 | AD18: =$AD$10*C18 -> 0 | AE18: =AE17*C18 -> 0 | AF18: =$AF$10*C18 -> 0 | AG18: =$AG$10*C18 -> 0 | AH18: =$AH$10*C18 -> 0 | AI18: =$AI$10*C18 -> 0 | AJ18: =$AJ$10*C18 -> 0 | AK18: =$AK$10*C18 -> 0 | AL18: =$AL$10*C18 -> 0 | AM18: =$AM$10*C18 -> 0 | AN18: =$AN$10*C18 -> 0 | AO18: =$AO$10*C18 -> 0 | AP18: =$AP$10*C18 -> 0 | AQ18: =$AQ$10*C18 -> 0 | AR18: =$AR$10*C18 -> 0 | AS18: =$AS$10*C18 -> 0 | AT18: =$AT$10*C18 -> 0 | AU18: =$AU$10*C18 -> 0 | AV18: =$AV$10*C18 -> 0 | AW18: =$AW$10*C18 -> 0 | AX18: =$AX$10*C18 -> 0 | AY18: =$AY$10*C18 -> 0 | AZ18: =$AZ$10*C18 -> 0 | BA18: =$BA$10*C18 -> 0 | BB18: =$BB$10*C18 -> 0 | BC18: =$BC$10*C18 -> 0 | BD18: =$BD$10*C18 -> 0 | BE18: =$BE$10*C18 -> 0 | BF18: =$BF$10*C18 -> 0 | BG18: =$BG$10*C18 -> 0 | BH18: =$BH$10*C18 -> 0 | BI18: =$BI$10*C18 -> 0 | BJ18: =$BJ$10*C18 -> 0 | BK18: =$BK$10*C18 -> 0 | BL18: =$BL$10*C18 -> 0 | BM18: =$BM$10*C18 -> 0 | BN18: =$BN$10*C18 -> 0 | BO18: =$BO$10*C18 -> 0 | BP18: =$BP$10*C18 -> 0 | BQ18: =$BQ$10*C18 -> 0 | BR18: =$BR$10*C18 -> 0 | BS18: =$BS$10*C18 -> 0 | BT18: =$BT$10*C18 -> 0 | BU18: =$BU$10*C18 -> 0 | BV18: =$BV$10*C18 -> 0 | BW18: =$BW$10*C18 -> 0
B19: INSS Patronal / Salário | D19: Não se aplica | E19: =$E$10*C19 -> 0 | F19: =$F$10*C19 -> 0 | G19: =$G$10*C19 -> 0 | H19: =$H$10*C19 -> 0 | I19: =$I$10*C19 -> 0 | J19: =$J$10*C19 -> 0 | K19: =$K$10*C19 -> 0 | L19: =$L$10*C19 -> 0 | M19: =$M$10*C19 -> 0 | N19: =$N$10*C19 -> 0 | O19: =$O$10*C19 -> 0 | P19: =$P$10*C19 -> 0 | Q19: =$Q$10*C19 -> 0 | R19: =$R$10*C19 -> 0 | S19: =$S$10*C19 -> 0 | T19: =$T$10*C19 -> 0 | U19: =$U$10*C19 -> 0 | V19: =$V$10*C19 -> 0 | W19: =W18*C19 -> 0 | X19: =$X$10*C19 -> 0 | Y19: =$Y$10*C19 -> 0 | Z19: =$Z$10*C19 -> 0 | AA19: =$AA$10*C19 -> 0 | AB19: =$AB$10*C19 -> 0 | AC19: =$AC$10*C19 -> 0 | AD19: =$AD$10*C19 -> 0 | AE19: =AE18*C19 -> 0 | AF19: =$AF$10*C19 -> 0 | AG19: =$AG$10*C19 -> 0 | AH19: =$AH$10*C19 -> 0 | AI19: =$AI$10*C19 -> 0 | AJ19: =$AJ$10*C19 -> 0 | AK19: =$AK$10*C19 -> 0 | AL19: =$AL$10*C19 -> 0 | AM19: =$AM$10*C19 -> 0 | AN19: =$AN$10*C19 -> 0 | AO19: =$AO$10*C19 -> 0 | AP19: =$AP$10*C19 -> 0 | AQ19: =$AQ$10*C19 -> 0 | AR19: =$AR$10*C19 -> 0 | AS19: =$AS$10*C19 -> 0 | AT19: =$AT$10*C19 -> 0 | AU19: =$AU$10*C19 -> 0 | AV19: =$AV$10*C19 -> 0 | AW19: =$AW$10*C19 -> 0 | AX19: =$AX$10*C19 -> 0 | AY19: =$AY$10*C19 -> 0 | AZ19: =$AZ$10*C19 -> 0 | BA19: =$BA$10*C19 -> 0 | BB19: =$BB$10*C19 -> 0 | BC19: =$BC$10*C19 -> 0 | BD19: =$BD$10*C19 -> 0 | BE19: =$BE$10*C19 -> 0 | BF19: =$BF$10*C19 -> 0 | BG19: =$BG$10*C19 -> 0 | BH19: =$BH$10*C19 -> 0 | BI19: =$BI$10*C19 -> 0 | BJ19: =$BJ$10*C19 -> 0 | BK19: =$BK$10*C19 -> 0 | BL19: =$BL$10*C19 -> 0 | BM19: =$BM$10*C19 -> 0 | BN19: =$BN$10*C19 -> 0 | BO19: =$BO$10*C19 -> 0 | BP19: =$BP$10*C19 -> 0 | BQ19: =$BQ$10*C19 -> 0 | BR19: =$BR$10*C19 -> 0 | BS19: =$BS$10*C19 -> 0 | BT19: =$BT$10*C19 -> 0 | BU19: =$BU$10*C19 -> 0 | BV19: =$BV$10*C19 -> 0 | BW19: =$BW$10*C19 -> 0
B20: INSS Patronal / 13º | D20: Não se aplica | E20: =$E$10*C20 -> 0 | F20: =$F$10*C20 -> 0 | G20: =$G$10*C20 -> 0 | H20: =$H$10*C20 -> 0 | I20: =$I$10*C20 -> 0 | J20: =$J$10*C20 -> 0 | K20: =$K$10*C20 -> 0 | L20: =$L$10*C20 -> 0 | M20: =$M$10*C20 -> 0 | N20: =$N$10*C20 -> 0 | O20: =$O$10*C20 -> 0 | P20: =$P$10*C20 -> 0 | Q20: =$Q$10*C20 -> 0 | R20: =$R$10*C20 -> 0 | S20: =$S$10*C20 -> 0 | T20: =$T$10*C20 -> 0 | U20: =$U$10*C20 -> 0 | V20: =$V$10*C20 -> 0 | W20: =W19*C20 -> 0 | X20: =$X$10*C20 -> 0 | Y20: =$Y$10*C20 -> 0 | Z20: =$Z$10*C20 -> 0 | AA20: =$AA$10*C20 -> 0 | AB20: =$AB$10*C20 -> 0 | AC20: =$AC$10*C20 -> 0 | AD20: =$AD$10*C20 -> 0 | AE20: =AE19*C20 -> 0 | AF20: =$AF$10*C20 -> 0 | AG20: =$AG$10*C20 -> 0 | AH20: =$AH$10*C20 -> 0 | AI20: =$AI$10*C20 -> 0 | AJ20: =$AJ$10*C20 -> 0 | AK20: =$AK$10*C20 -> 0 | AL20: =$AL$10*C20 -> 0 | AM20: =$AM$10*C20 -> 0 | AN20: =$AN$10*C20 -> 0 | AO20: =$AO$10*C20 -> 0 | AP20: =$AP$10*C20 -> 0 | AQ20: =$AQ$10*C20 -> 0 | AR20: =$AR$10*C20 -> 0 | AS20: =$AS$10*C20 -> 0 | AT20: =$AT$10*C20 -> 0 | AU20: =$AU$10*C20 -> 0 | AV20: =$AV$10*C20 -> 0 | AW20: =$AW$10*C20 -> 0 | AX20: =$AX$10*C20 -> 0 | AY20: =$AY$10*C20 -> 0 | AZ20: =$AZ$10*C20 -> 0 | BA20: =$BA$10*C20 -> 0 | BB20: =$BB$10*C20 -> 0 | BC20: =$BC$10*C20 -> 0 | BD20: =$BD$10*C20 -> 0 | BE20: =$BE$10*C20 -> 0 | BF20: =$BF$10*C20 -> 0 | BG20: =$BG$10*C20 -> 0 | BH20: =$BH$10*C20 -> 0 | BI20: =$BI$10*C20 -> 0 | BJ20: =$BJ$10*C20 -> 0 | BK20: =$BK$10*C20 -> 0 | BL20: =$BL$10*C20 -> 0 | BM20: =$BM$10*C20 -> 0 | BN20: =$BN$10*C20 -> 0 | BO20: =$BO$10*C20 -> 0 | BP20: =$BP$10*C20 -> 0 | BQ20: =$BQ$10*C20 -> 0 | BR20: =$BR$10*C20 -> 0 | BS20: =$BS$10*C20 -> 0 | BT20: =$BT$10*C20 -> 0 | BU20: =$BU$10*C20 -> 0 | BV20: =$BV$10*C20 -> 0 | BW20: =$BW$10*C20 -> 0
B21: INSS Patronal / Férias | D21: Não se aplica | E21: =$E$10*C21 -> 0 | F21: =$F$10*C21 -> 0 | G21: =$G$10*C21 -> 0 | H21: =$H$10*C21 -> 0 | I21: =$I$10*C21 -> 0 | J21: =$J$10*C21 -> 0 | K21: =$K$10*C21 -> 0 | L21: =$L$10*C21 -> 0 | M21: =$M$10*C21 -> 0 | N21: =$N$10*C21 -> 0 | O21: =$O$10*C21 -> 0 | P21: =$P$10*C21 -> 0 | Q21: =$Q$10*C21 -> 0 | R21: =$R$10*C21 -> 0 | S21: =$S$10*C21 -> 0 | T21: =$T$10*C21 -> 0 | U21: =$U$10*C21 -> 0 | V21: =$V$10*C21 -> 0 | W21: =W20*C21 -> 0 | X21: =$X$10*C21 -> 0 | Y21: =$Y$10*C21 -> 0 | Z21: =$Z$10*C21 -> 0 | AA21: =$AA$10*C21 -> 0 | AB21: =$AB$10*C21 -> 0 | AC21: =$AC$10*C21 -> 0 | AD21: =$AD$10*C21 -> 0 | AE21: =AE20*C21 -> 0 | AF21: =$AF$10*C21 -> 0 | AG21: =$AG$10*C21 -> 0 | AH21: =$AH$10*C21 -> 0 | AI21: =$AI$10*C21 -> 0 | AJ21: =$AJ$10*C21 -> 0 | AK21: =$AK$10*C21 -> 0 | AL21: =$AL$10*C21 -> 0 | AM21: =$AM$10*C21 -> 0 | AN21: =$AN$10*C21 -> 0 | AO21: =$AO$10*C21 -> 0 | AP21: =$AP$10*C21 -> 0 | AQ21: =$AQ$10*C21 -> 0 | AR21: =$AR$10*C21 -> 0 | AS21: =$AS$10*C21 -> 0 | AT21: =$AT$10*C21 -> 0 | AU21: =$AU$10*C21 -> 0 | AV21: =$AV$10*C21 -> 0 | AW21: =$AW$10*C21 -> 0 | AX21: =$AX$10*C21 -> 0 | AY21: =$AY$10*C21 -> 0 | AZ21: =$AZ$10*C21 -> 0 | BA21: =$BA$10*C21 -> 0 | BB21: =$BB$10*C21 -> 0 | BC21: =$BC$10*C21 -> 0 | BD21: =$BD$10*C21 -> 0 | BE21: =$BE$10*C21 -> 0 | BF21: =$BF$10*C21 -> 0 | BG21: =$BG$10*C21 -> 0 | BH21: =$BH$10*C21 -> 0 | BI21: =$BI$10*C21 -> 0 | BJ21: =$BJ$10*C21 -> 0 | BK21: =$BK$10*C21 -> 0 | BL21: =$BL$10*C21 -> 0 | BM21: =$BM$10*C21 -> 0 | BN21: =$BN$10*C21 -> 0 | BO21: =$BO$10*C21 -> 0 | BP21: =$BP$10*C21 -> 0 | BQ21: =$BQ$10*C21 -> 0 | BR21: =$BR$10*C21 -> 0 | BS21: =$BS$10*C21 -> 0 | BT21: =$BT$10*C21 -> 0 | BU21: =$BU$10*C21 -> 0 | BV21: =$BV$10*C21 -> 0 | BW21: =$BW$10*C21 -> 0
B22: RAT ajustado / Salário | D22: Não se aplica | E22: =$E$10*C22 -> 0 | F22: =$F$10*C22 -> 0 | G22: =$G$10*C22 -> 0 | H22: =$H$10*C22 -> 0 | I22: =$I$10*C22 -> 0 | J22: =$J$10*C22 -> 0 | K22: =$K$10*C22 -> 0 | L22: =$L$10*C22 -> 0 | M22: =$M$10*C22 -> 0 | N22: =$N$10*C22 -> 0 | O22: =$O$10*C22 -> 0 | P22: =$P$10*C22 -> 0 | Q22: =$Q$10*C22 -> 0 | R22: =$R$10*C22 -> 0 | S22: =$S$10*C22 -> 0 | T22: =$T$10*C22 -> 0 | U22: =$U$10*C22 -> 0 | V22: =$V$10*C22 -> 0 | W22: =W21*C22 -> 0 | X22: =$X$10*C22 -> 0 | Y22: =$Y$10*C22 -> 0 | Z22: =$Z$10*C22 -> 0 | AA22: =$AA$10*C22 -> 0 | AB22: =$AB$10*C22 -> 0 | AC22: =$AC$10*C22 -> 0 | AD22: =$AD$10*C22 -> 0 | AE22: =AE21*C22 -> 0 | AF22: =$AF$10*C22 -> 0 | AG22: =$AG$10*C22 -> 0 | AH22: =$AH$10*C22 -> 0 | AI22: =$AI$10*C22 -> 0 | AJ22: =$AJ$10*C22 -> 0 | AK22: =$AK$10*C22 -> 0 | AL22: =$AL$10*C22 -> 0 | AM22: =$AM$10*C22 -> 0 | AN22: =$AN$10*C22 -> 0 | AO22: =$AO$10*C22 -> 0 | AP22: =$AP$10*C22 -> 0 | AQ22: =$AQ$10*C22 -> 0 | AR22: =$AR$10*C22 -> 0 | AS22: =$AS$10*C22 -> 0 | AT22: =$AT$10*C22 -> 0 | AU22: =$AU$10*C22 -> 0 | AV22: =$AV$10*C22 -> 0 | AW22: =$AW$10*C22 -> 0 | AX22: =$AX$10*C22 -> 0 | AY22: =$AY$10*C22 -> 0 | AZ22: =$AZ$10*C22 -> 0 | BA22: =$BA$10*C22 -> 0 | BB22: =$BB$10*C22 -> 0 | BC22: =$BC$10*C22 -> 0 | BD22: =$BD$10*C22 -> 0 | BE22: =$BE$10*C22 -> 0 | BF22: =$BF$10*C22 -> 0 | BG22: =$BG$10*C22 -> 0 | BH22: =$BH$10*C22 -> 0 | BI22: =$BI$10*C22 -> 0 | BJ22: =$BJ$10*C22 -> 0 | BK22: =$BK$10*C22 -> 0 | BL22: =$BL$10*C22 -> 0 | BM22: =$BM$10*C22 -> 0 | BN22: =$BN$10*C22 -> 0 | BO22: =$BO$10*C22 -> 0 | BP22: =$BP$10*C22 -> 0 | BQ22: =$BQ$10*C22 -> 0 | BR22: =$BR$10*C22 -> 0 | BS22: =$BS$10*C22 -> 0 | BT22: =$BT$10*C22 -> 0 | BU22: =$BU$10*C22 -> 0 | BV22: =$BV$10*C22 -> 0 | BW22: =$BW$10*C22 -> 0
B23: RAT ajustado / 13º | D23: Não se aplica | E23: =$E$10*C23 -> 0 | F23: =$F$10*C23 -> 0 | G23: =$G$10*C23 -> 0 | H23: =$H$10*C23 -> 0 | I23: =$I$10*C23 -> 0 | J23: =$J$10*C23 -> 0 | K23: =$K$10*C23 -> 0 | L23: =$L$10*C23 -> 0 | M23: =$M$10*C23 -> 0 | N23: =$N$10*C23 -> 0 | O23: =$O$10*C23 -> 0 | P23: =$P$10*C23 -> 0 | Q23: =$Q$10*C23 -> 0 | R23: =$R$10*C23 -> 0 | S23: =$S$10*C23 -> 0 | T23: =$T$10*C23 -> 0 | U23: =$U$10*C23 -> 0 | V23: =$V$10*C23 -> 0 | W23: =W22*C23 -> 0 | X23: =$X$10*C23 -> 0 | Y23: =$Y$10*C23 -> 0 | Z23: =$Z$10*C23 -> 0 | AA23: =$AA$10*C23 -> 0 | AB23: =$AB$10*C23 -> 0 | AC23: =$AC$10*C23 -> 0 | AD23: =$AD$10*C23 -> 0 | AE23: =AE22*C23 -> 0 | AF23: =$AF$10*C23 -> 0 | AG23: =$AG$10*C23 -> 0 | AH23: =$AH$10*C23 -> 0 | AI23: =$AI$10*C23 -> 0 | AJ23: =$AJ$10*C23 -> 0 | AK23: =$AK$10*C23 -> 0 | AL23: =$AL$10*C23 -> 0 | AM23: =$AM$10*C23 -> 0 | AN23: =$AN$10*C23 -> 0 | AO23: =$AO$10*C23 -> 0 | AP23: =$AP$10*C23 -> 0 | AQ23: =$AQ$10*C23 -> 0 | AR23: =$AR$10*C23 -> 0 | AS23: =$AS$10*C23 -> 0 | AT23: =$AT$10*C23 -> 0 | AU23: =$AU$10*C23 -> 0 | AV23: =$AV$10*C23 -> 0 | AW23: =$AW$10*C23 -> 0 | AX23: =$AX$10*C23 -> 0 | AY23: =$AY$10*C23 -> 0 | AZ23: =$AZ$10*C23 -> 0 | BA23: =$BA$10*C23 -> 0 | BB23: =$BB$10*C23 -> 0 | BC23: =$BC$10*C23 -> 0 | BD23: =$BD$10*C23 -> 0 | BE23: =$BE$10*C23 -> 0 | BF23: =$BF$10*C23 -> 0 | BG23: =$BG$10*C23 -> 0 | BH23: =$BH$10*C23 -> 0 | BI23: =$BI$10*C23 -> 0 | BJ23: =$BJ$10*C23 -> 0 | BK23: =$BK$10*C23 -> 0 | BL23: =$BL$10*C23 -> 0 | BM23: =$BM$10*C23 -> 0 | BN23: =$BN$10*C23 -> 0 | BO23: =$BO$10*C23 -> 0 | BP23: =$BP$10*C23 -> 0 | BQ23: =$BQ$10*C23 -> 0 | BR23: =$BR$10*C23 -> 0 | BS23: =$BS$10*C23 -> 0 | BT23: =$BT$10*C23 -> 0 | BU23: =$BU$10*C23 -> 0 | BV23: =$BV$10*C23 -> 0 | BW23: =$BW$10*C23 -> 0
B24: RAT ajustado / Férias | D24: Não se aplica | E24: =$E$10*C24 -> 0 | F24: =$F$10*C24 -> 0 | G24: =$G$10*C24 -> 0 | H24: =$H$10*C24 -> 0 | I24: =$I$10*C24 -> 0 | J24: =$J$10*C24 -> 0 | K24: =$K$10*C24 -> 0 | L24: =$L$10*C24 -> 0 | M24: =$M$10*C24 -> 0 | N24: =$N$10*C24 -> 0 | O24: =$O$10*C24 -> 0 | P24: =$P$10*C24 -> 0 | Q24: =$Q$10*C24 -> 0 | R24: =$R$10*C24 -> 0 | S24: =$S$10*C24 -> 0 | T24: =$T$10*C24 -> 0 | U24: =$U$10*C24 -> 0 | V24: =$V$10*C24 -> 0 | W24: =W23*C24 -> 0 | X24: =$X$10*C24 -> 0 | Y24: =$Y$10*C24 -> 0 | Z24: =$Z$10*C24 -> 0 | AA24: =$AA$10*C24 -> 0 | AB24: =$AB$10*C24 -> 0 | AC24: =$AC$10*C24 -> 0 | AD24: =$AD$10*C24 -> 0 | AE24: =AE23*C24 -> 0 | AF24: =$AF$10*C24 -> 0 | AG24: =$AG$10*C24 -> 0 | AH24: =$AH$10*C24 -> 0 | AI24: =$AI$10*C24 -> 0 | AJ24: =$AJ$10*C24 -> 0 | AK24: =$AK$10*C24 -> 0 | AL24: =$AL$10*C24 -> 0 | AM24: =$AM$10*C24 -> 0 | AN24: =$AN$10*C24 -> 0 | AO24: =$AO$10*C24 -> 0 | AP24: =$AP$10*C24 -> 0 | AQ24: =$AQ$10*C24 -> 0 | AR24: =$AR$10*C24 -> 0 | AS24: =$AS$10*C24 -> 0 | AT24: =$AT$10*C24 -> 0 | AU24: =$AU$10*C24 -> 0 | AV24: =$AV$10*C24 -> 0 | AW24: =$AW$10*C24 -> 0 | AX24: =$AX$10*C24 -> 0 | AY24: =$AY$10*C24 -> 0 | AZ24: =$AZ$10*C24 -> 0 | BA24: =$BA$10*C24 -> 0 | BB24: =$BB$10*C24 -> 0 | BC24: =$BC$10*C24 -> 0 | BD24: =$BD$10*C24 -> 0 | BE24: =$BE$10*C24 -> 0 | BF24: =$BF$10*C24 -> 0 | BG24: =$BG$10*C24 -> 0 | BH24: =$BH$10*C24 -> 0 | BI24: =$BI$10*C24 -> 0 | BJ24: =$BJ$10*C24 -> 0 | BK24: =$BK$10*C24 -> 0 | BL24: =$BL$10*C24 -> 0 | BM24: =$BM$10*C24 -> 0 | BN24: =$BN$10*C24 -> 0 | BO24: =$BO$10*C24 -> 0 | BP24: =$BP$10*C24 -> 0 | BQ24: =$BQ$10*C24 -> 0 | BR24: =$BR$10*C24 -> 0 | BS24: =$BS$10*C24 -> 0 | BT24: =$BT$10*C24 -> 0 | BU24: =$BU$10*C24 -> 0 | BV24: =$BV$10*C24 -> 0 | BW24: =$BW$10*C24 -> 0
B25: Terceiros / Salário | D25: Não se aplica | E25: =$E$10*C25 -> 0 | F25: =$F$10*C25 -> 0 | G25: =$G$10*C25 -> 0 | H25: =$H$10*C25 -> 0 | I25: =$I$10*C25 -> 0 | J25: =$J$10*C25 -> 0 | K25: =$K$10*C25 -> 0 | L25: =$L$10*C25 -> 0 | M25: =$M$10*C25 -> 0 | N25: =$N$10*C25 -> 0 | O25: =$O$10*C25 -> 0 | P25: =$P$10*C25 -> 0 | Q25: =$Q$10*C25 -> 0 | R25: =$R$10*C25 -> 0 | S25: =$S$10*C25 -> 0 | T25: =$T$10*C25 -> 0 | U25: =$U$10*C25 -> 0 | V25: =$V$10*C25 -> 0 | W25: =W24*C25 -> 0 | X25: =$X$10*C25 -> 0 | Y25: =$Y$10*C25 -> 0 | Z25: =$Z$10*C25 -> 0 | AA25: =$AA$10*C25 -> 0 | AB25: =$AB$10*C25 -> 0 | AC25: =$AC$10*C25 -> 0 | AD25: =$AD$10*C25 -> 0 | AE25: =AE24*C25 -> 0 | AF25: =$AF$10*C25 -> 0 | AG25: =$AG$10*C25 -> 0 | AH25: =$AH$10*C25 -> 0 | AI25: =$AI$10*C25 -> 0 | AJ25: =$AJ$10*C25 -> 0 | AK25: =$AK$10*C25 -> 0 | AL25: =$AL$10*C25 -> 0 | AM25: =$AM$10*C25 -> 0 | AN25: =$AN$10*C25 -> 0 | AO25: =$AO$10*C25 -> 0 | AP25: =$AP$10*C25 -> 0 | AQ25: =$AQ$10*C25 -> 0 | AR25: =$AR$10*C25 -> 0 | AS25: =$AS$10*C25 -> 0 | AT25: =$AT$10*C25 -> 0 | AU25: =$AU$10*C25 -> 0 | AV25: =$AV$10*C25 -> 0 | AW25: =$AW$10*C25 -> 0 | AX25: =$AX$10*C25 -> 0 | AY25: =$AY$10*C25 -> 0 | AZ25: =$AZ$10*C25 -> 0 | BA25: =$BA$10*C25 -> 0 | BB25: =$BB$10*C25 -> 0 | BC25: =$BC$10*C25 -> 0 | BD25: =$BD$10*C25 -> 0 | BE25: =$BE$10*C25 -> 0 | BF25: =$BF$10*C25 -> 0 | BG25: =$BG$10*C25 -> 0 | BH25: =$BH$10*C25 -> 0 | BI25: =$BI$10*C25 -> 0 | BJ25: =$BJ$10*C25 -> 0 | BK25: =$BK$10*C25 -> 0 | BL25: =$BL$10*C25 -> 0 | BM25: =$BM$10*C25 -> 0 | BN25: =$BN$10*C25 -> 0 | BO25: =$BO$10*C25 -> 0 | BP25: =$BP$10*C25 -> 0 | BQ25: =$BQ$10*C25 -> 0 | BR25: =$BR$10*C25 -> 0 | BS25: =$BS$10*C25 -> 0 | BT25: =$BT$10*C25 -> 0 | BU25: =$BU$10*C25 -> 0 | BV25: =$BV$10*C25 -> 0 | BW25: =$BW$10*C25 -> 0
... B27: Terceiros / Férias | D27: Não se aplica | E27: =$E$10*C27 -> 0 | F27: =$F$10*C27 -> 0 | G27: =$G$10*C27 -> 0 | H27: =$H$10*C27 -> 0 | I27: =$I$10*C27 -> 0 | J27: =$J$10*C27 -> 0 | K27: =$K$10*C27 -> 0 | L27: =$L$10*C27 -> 0 | M27: =$M$10*C27 -> 0 | N27: =$N$10*C27 -> 0 | O27: =$O$10*C27 -> 0 | P27: =$P$10*C27 -> 0 | Q27: =$Q$10*C27 -> 0 | R27: =$R$10*C27 -> 0 | S27: =$S$10*C27 -> 0 | T27: =$T$10*C27 -> 0 | U27: =$U$10*C27 -> 0 | V27: =$V$10*C27 -> 0 | W27: =W26*C27 -> 0 | X27: =$X$10*C27 -> 0 | Y27: =$Y$10*C27 -> 0 | Z27: =$Z$10*C27 -> 0 | AA27: =$AA$10*C27 -> 0 | AB27: =$AB$10*C27 -> 0 | AC27: =$AC$10*C27 -> 0 | AD27: =$AD$10*C27 -> 0 | AE27: =AE26*C27 -> 0 | AF27: =$AF$10*C27 -> 0 | AG27: =$AG$10*C27 -> 0 | AH27: =$AH$10*C27 -> 0 | AI27: =$AI$10*C27 -> 0 | AJ27: =$AJ$10*C27 -> 0 | AK27: =$AK$10*C27 -> 0 | AL27: =$AL$10*C27 -> 0 | AM27: =$AM$10*C27 -> 0 | AN27: =$AN$10*C27 -> 0 | AO27: =$AO$10*C27 -> 0 | AP27: =$AP$10*C27 -> 0 | AQ27: =$AQ$10*C27 -> 0 | AR27: =$AR$10*C27 -> 0 | AS27: =$AS$10*C27 -> 0 | AT27: =$AT$10*C27 -> 0 | AU27: =$AU$10*C27 -> 0 | AV27: =$AV$10*C27 -> 0 | AW27: =$AW$10*C27 -> 0 | AX27: =$AX$10*C27 -> 0 | AY27: =$AY$10*C27 -> 0 | AZ27: =$AZ$10*C27 -> 0 | BA27: =$BA$10*C27 -> 0 | BB27: =$BB$10*C27 -> 0 | BC27: =$BC$10*C27 -> 0 | BD27: =$BD$10*C27 -> 0 | BE27: =$BE$10*C27 -> 0 | BF27: =$BF$10*C27 -> 0 | BG27: =$BG$10*C27 -> 0 | BH27: =$BH$10*C27 -> 0 | BI27: =$BI$10*C27 -> 0 | BJ27: =$BJ$10*C27 -> 0 | BK27: =$BK$10*C27 -> 0 | BL27: =$BL$10*C27 -> 0 | BM27: =$BM$10*C27 -> 0 | BN27: =$BN$10*C27 -> 0 | BO27: =$BO$10*C27 -> 0 | BP27: =$BP$10*C27 -> 0 | BQ27: =$BQ$10*C27 -> 0 | BR27: =$BR$10*C27 -> 0 | BS27: =$BS$10*C27 -> 0 | BT27: =$BT$10*C27 -> 0 | BU27: =$BU$10*C27 -> 0 | BV27: =$BV$10*C27 -> 0 | BW27: =$BW$10*C27 -> 0
B28: Benefício - alimentação | E28: =$E$10*C28 -> 0 | F28: =$F$10*C28 -> 0 | G28: =$G$10*C28 -> 0 | H28: =$H$10*C28 -> 0 | I28: =$I$10*C28 -> 0 | J28: =$J$10*C28 -> 0 | K28: =$K$10*C28 -> 0 | L28: =$L$10*C28 -> 0 | M28: =$M$10*C28 -> 0 | N28: =$N$10*C28 -> 0 | O28: =$O$10*C28 -> 0 | P28: =$P$10*C28 -> 0 | Q28: =$Q$10*C28 -> 0 | R28: =$R$10*C28 -> 0 | S28: =$S$10*C28 -> 0 | T28: =$T$10*C28 -> 0 | U28: =$U$10*C28 -> 0 | V28: =$V$10*C28 -> 0 | X28: =$X$10*C28 -> 0 | Y28: =$Y$10*C28 -> 0 | Z28: =$Z$10*C28 -> 0 | AA28: =$AA$10*C28 -> 0 | AB28: =$AB$10*C28 -> 0 | AC28: =$AC$10*C28 -> 0 | AD28: =$AD$10*C28 -> 0 | AF28: =$AF$10*C28 -> 0 | AG28: =$AG$10*C28 -> 0 | AH28: =$AH$10*C28 -> 0 | AI28: =$AI$10*C28 -> 0 | AJ28: =$AJ$10*C28 -> 0 | AK28: =$AK$10*C28 -> 0 | AL28: =$AL$10*C28 -> 0 | AM28: =$AM$10*C28 -> 0 | AN28: =$AN$10*C28 -> 0 | AO28: =$AO$10*C28 -> 0 | AP28: =$AP$10*C28 -> 0 | AQ28: =$AQ$10*C28 -> 0 | AR28: =$AR$10*C28 -> 0 | AS28: =$AS$10*C28 -> 0 | AT28: =$AT$10*C28 -> 0 | AU28: =$AU$10*C28 -> 0 | AV28: =$AV$10*C28 -> 0 | AW28: =$AW$10*C28 -> 0 | AX28: =$AX$10*C28 -> 0 | AY28: =$AY$10*C28 -> 0 | AZ28: =$AZ$10*C28 -> 0 | BA28: =$BA$10*C28 -> 0 | BB28: =$BB$10*C28 -> 0 | BC28: =$BC$10*C28 -> 0 | BD28: =$BD$10*C28 -> 0 | BE28: =$BE$10*C28 -> 0 | BF28: =$BF$10*C28 -> 0 | BG28: =$BG$10*C28 -> 0 | BH28: =$BH$10*C28 -> 0 | BI28: =$BI$10*C28 -> 0 | BJ28: =$BJ$10*C28 -> 0 | BK28: =$BK$10*C28 -> 0 | BL28: =$BL$10*C28 -> 0 | BM28: =$BM$10*C28 -> 0 | BN28: =$BN$10*C28 -> 0 | BO28: =$BO$10*C28 -> 0 | BP28: =$BP$10*C28 -> 0 | BQ28: =$BQ$10*C28 -> 0 | BR28: =$BR$10*C28 -> 0 | BS28: =$BS$10*C28 -> 0 | BT28: =$BT$10*C28 -> 0 | BU28: =$BU$10*C28 -> 0 | BV28: =$BV$10*C28 -> 0 | BW28: =$BW$10*C28 -> 0
B29: Benefício - saúde | E29: =$E$10*C29 -> 0 | F29: =$F$10*C29 -> 0 | G29: =$G$10*C29 -> 0 | H29: =$H$10*C29 -> 0 | I29: =$I$10*C29 -> 0 | J29: =$J$10*C29 -> 0 | K29: =$K$10*C29 -> 0 | L29: =$L$10*C29 -> 0 | M29: =$M$10*C29 -> 0 | N29: =$N$10*C29 -> 0 | O29: =$O$10*C29 -> 0 | P29: =$P$10*C29 -> 0 | Q29: =$Q$10*C29 -> 0 | R29: =$R$10*C29 -> 0 | S29: =$S$10*C29 -> 0 | T29: =$T$10*C29 -> 0 | U29: =$U$10*C29 -> 0 | V29: =$V$10*C29 -> 0 | X29: =$X$10*C29 -> 0 | Y29: =$Y$10*C29 -> 0 | Z29: =$Z$10*C29 -> 0 | AA29: =$AA$10*C29 -> 0 | AB29: =$AB$10*C29 -> 0 | AC29: =$AC$10*C29 -> 0 | AD29: =$AD$10*C29 -> 0 | AF29: =$AF$10*C29 -> 0 | AG29: =$AG$10*C29 -> 0 | AH29: =$AH$10*C29 -> 0 | AI29: =$AI$10*C29 -> 0 | AJ29: =$AJ$10*C29 -> 0 | AK29: =$AK$10*C29 -> 0 | AL29: =$AL$10*C29 -> 0 | AM29: =$AM$10*C29 -> 0 | AN29: =$AN$10*C29 -> 0 | AO29: =$AO$10*C29 -> 0 | AP29: =$AP$10*C29 -> 0 | AQ29: =$AQ$10*C29 -> 0 | AR29: =$AR$10*C29 -> 0 | AS29: =$AS$10*C29 -> 0 | AT29: =$AT$10*C29 -> 0 | AU29: =$AU$10*C29 -> 0 | AV29: =$AV$10*C29 -> 0 | AW29: =$AW$10*C29 -> 0 | AX29: =$AX$10*C29 -> 0 | AY29: =$AY$10*C29 -> 0 | AZ29: =$AZ$10*C29 -> 0 | BA29: =$BA$10*C29 -> 0 | BB29: =$BB$10*C29 -> 0 | BC29: =$BC$10*C29 -> 0 | BD29: =$BD$10*C29 -> 0 | BE29: =$BE$10*C29 -> 0 | BF29: =$BF$10*C29 -> 0 | BG29: =$BG$10*C29 -> 0 | BH29: =$BH$10*C29 -> 0 | BI29: =$BI$10*C29 -> 0 | BJ29: =$BJ$10*C29 -> 0 | BK29: =$BK$10*C29 -> 0 | BL29: =$BL$10*C29 -> 0 | BM29: =$BM$10*C29 -> 0 | BN29: =$BN$10*C29 -> 0 | BO29: =$BO$10*C29 -> 0 | BP29: =$BP$10*C29 -> 0 | BQ29: =$BQ$10*C29 -> 0 | BR29: =$BR$10*C29 -> 0 | BS29: =$BS$10*C29 -> 0 | BT29: =$BT$10*C29 -> 0 | BU29: =$BU$10*C29 -> 0 | BV29: =$BV$10*C29 -> 0 | BW29: =$BW$10*C29 -> 0
B30: Seguro de vida | E30: =$E$10*C30 -> 0 | F30: =$F$10*C30 -> 0 | G30: =$G$10*C30 -> 0 | H30: =$H$10*C30 -> 0 | I30: =$I$10*C30 -> 0 | J30: =$J$10*C30 -> 0 | K30: =$K$10*C30 -> 0 | L30: =$L$10*C30 -> 0 | M30: =$M$10*C30 -> 0 | N30: =$N$10*C30 -> 0 | O30: =$O$10*C30 -> 0 | P30: =$P$10*C30 -> 0 | Q30: =$Q$10*C30 -> 0 | R30: =$R$10*C30 -> 0 | S30: =$S$10*C30 -> 0 | T30: =$T$10*C30 -> 0 | U30: =$U$10*C30 -> 0 | V30: =$V$10*C30 -> 0 | X30: =$X$10*C30 -> 0 | Y30: =$Y$10*C30 -> 0 | Z30: =$Z$10*C30 -> 0 | AA30: =$AA$10*C30 -> 0 | AB30: =$AB$10*C30 -> 0 | AC30: =$AC$10*C30 -> 0 | AD30: =$AD$10*C30 -> 0 | AF30: =$AF$10*C30 -> 0 | AG30: =$AG$10*C30 -> 0 | AH30: =$AH$10*C30 -> 0 | AI30: =$AI$10*C30 -> 0 | AJ30: =$AJ$10*C30 -> 0 | AK30: =$AK$10*C30 -> 0 | AL30: =$AL$10*C30 -> 0 | AM30: =$AM$10*C30 -> 0 | AN30: =$AN$10*C30 -> 0 | AO30: =$AO$10*C30 -> 0 | AP30: =$AP$10*C30 -> 0 | AQ30: =$AQ$10*C30 -> 0 | AR30: =$AR$10*C30 -> 0 | AS30: =$AS$10*C30 -> 0 | AT30: =$AT$10*C30 -> 0 | AU30: =$AU$10*C30 -> 0 | AV30: =$AV$10*C30 -> 0 | AW30: =$AW$10*C30 -> 0 | AX30: =$AX$10*C30 -> 0 | AY30: =$AY$10*C30 -> 0 | AZ30: =$AZ$10*C30 -> 0 | BA30: =$BA$10*C30 -> 0 | BB30: =$BB$10*C30 -> 0 | BC30: =$BC$10*C30 -> 0 | BD30: =$BD$10*C30 -> 0 | BE30: =$BE$10*C30 -> 0 | BF30: =$BF$10*C30 -> 0 | BG30: =$BG$10*C30 -> 0 | BH30: =$BH$10*C30 -> 0 | BI30: =$BI$10*C30 -> 0 | BJ30: =$BJ$10*C30 -> 0 | BK30: =$BK$10*C30 -> 0 | BL30: =$BL$10*C30 -> 0 | BM30: =$BM$10*C30 -> 0 | BN30: =$BN$10*C30 -> 0 | BO30: =$BO$10*C30 -> 0 | BP30: =$BP$10*C30 -> 0 | BQ30: =$BQ$10*C30 -> 0 | BR30: =$BR$10*C30 -> 0 | BS30: =$BS$10*C30 -> 0 | BT30: =$BT$10*C30 -> 0 | BU30: =$BU$10*C30 -> 0 | BV30: =$BV$10*C30 -> 0 | BW30: =$BW$10*C30 -> 0
B31: Auxilio Internet | E31: 80 | F31: 80 | G31: 80 | H31: 80 | I31: 80 | J31: 80 | K31: 80 | L31: 80 | M31: 80 | N31: 80 | O31: 80 | P31: 80 | Q31: 80 | R31: 80 | S31: 80 | T31: 80 | U31: 80 | V31: 80 | W31: 80 | X31: 80 | Y31: 80 | Z31: 80 | AA31: 80 | AB31: 80 | AC31: 80 | AD31: 80 | AE31: 80 | AF31: 80 | AG31: 80 | AH31: 80 | AI31: 80 | AJ31: 80 | AK31: 80 | AL31: 80 | AM31: 80 | AN31: 80 | AO31: 80 | AP31: 80 | AQ31: 80 | AR31: 80 | AS31: 80 | AT31: 80 | AU31: 80 | AV31: 80 | AW31: 80 | AX31: 80 | AY31: 80 | AZ31: 80 | BA31: 80 | BB31: 80 | BC31: 80 | BD31: 80 | BE31: 80 | BF31: 80 | BG31: 80 | BH31: 80 | BI31: 80 | BJ31: 80 | BK31: 80 | BL31: 80 | BM31: 80 | BN31: 80 | BO31: 80 | BP31: 80 | BQ31: 80 | BR31: 80 | BS31: 80 | BT31: 80 | BU31: 80 | BV31: 80 | BW31: 80
B32: Auxilio Treinamento | E32: 100 | F32: 100 | G32: 100 | H32: 100 | I32: 100 | J32: 100 | K32: 100 | L32: 100 | M32: 100 | N32: 100 | O32: 100 | P32: 100 | Q32: 100 | R32: 100 | S32: 100 | T32: 100 | U32: 100 | V32: 100 | W32: 100 | X32: 100 | Y32: 100 | Z32: 100 | AA32: 100 | AB32: 100 | AC32: 100 | AD32: 100 | AE32: 100 | AF32: 100 | AG32: 100 | AH32: 100 | AI32: 100 | AJ32: 100 | AK32: 100 | AL32: 100 | AM32: 100 | AN32: 100 | AO32: 100 | AP32: 100 | AQ32: 100 | AR32: 100 | AS32: 100 | AT32: 100 | AU32: 100 | AV32: 100 | AW32: 100 | AX32: 100 | AY32: 100 | AZ32: 100 | BA32: 100 | BB32: 100 | BC32: 100 | BD32: 100 | BE32: 100 | BF32: 100 | BG32: 100 | BH32: 100 | BI32: 100 | BJ32: 100 | BK32: 100 | BL32: 100 | BM32: 100 | BN32: 100 | BO32: 100 | BP32: 100 | BQ32: 100 | BR32: 100 | BS32: 100 | BT32: 100 | BU32: 100 | BV32: 100 | BW32: 100
A33: CUSTO TOTAL DA REMUNERAÇÃO | E33: =SUM(E10:E32) -> 1891.3 | F33: =SUM(F10:F32) -> 2004.97 | G33: =SUM(G10:G32) -> 2119.48 | H33: =SUM(H10:H32) -> 3260.34 | I33: =SUM(I10:I32) -> 3373.71 | J33: =SUM(J10:J32) -> 3488.52 | K33: =SUM(K10:K32) -> 4380 | L33: =SUM(L10:L32) -> 6480 | ... BW33: =SUM(BW10:BW32) -> 4596.45
A34: OUTROS CUSTOS
B35: Custos Indiretos
B36: Margem
B37: Remuneração + Custos indiretos + Margem | E37: =E33+E35+E36 -> 1891.3 | F37: =F33+F35+F36 -> 2004.97 | G37: =G33+G35+G36 -> 2119.48 | H37: =H33+H35+H36 -> 3260.34 | I37: =I33+I35+I36 -> 3373.71 | J37: =J33+J35+J36 -> 3488.52 | K37: =K33+K35+K36 -> 4380 | L37: =L33+L35+L36 -> 6480 | ... BW37: =BW33+BW35+BW36 -> 4596.45
A38: TRIBUTOS SOBRE LUCRO FISCAL
B39: Tributos federais - IRPJ | C39: 0.048 | D39: 0.15 | E39: {=_xlfn.IFS($F$2="Lucro Real",E36*$D39,$F$2="Lucro Presumido",E36*$C39,$F$2="",0)} -> 0 | F39: {=_xlfn.IFS($F$2="Lucro Real",F36*$D39,$F$2="Lucro Presumido",F36*$C39,$F$2="",0)} -> 0 | G39: {=_xlfn.IFS($F$2="Lucro Real",G36*$D39,$F$2="Lucro Presumido",G36*$C39,$F$2="",0)} -> 0 | H39: {=_xlfn.IFS($F$2="Lucro Real",H36*$D39,$F$2="Lucro Presumido",H36*$C39,$F$2="",0)} -> 0 | I39: {=_xlfn.IFS($F$2="Lucro Real",I36*$D39,$F$2="Lucro Presumido",I36*$C39,$F$2="",0)} -> 0 | J39: {=_xlfn.IFS($F$2="Lucro Real",J36*$D39,$F$2="Lucro Presumido",J36*$C39,$F$2="",0)} -> 0 | K39: {=_xlfn.IFS($F$2="Lucro Real",K36*$D39,$F$2="Lucro Presumido",K36*$C39,$F$2="",0)} -> 0 | L39: {=_xlfn.IFS($F$2="Lucro Real",L36*$D39,$F$2="Lucro Presumido",L36*$C39,$F$2="",0)} -> 0 | ... BW39: {=_xlfn.IFS($F$2="Lucro Real",BW36*$D39,$F$2="Lucro Presumido",BW36*$C39,$F$2="",0)} -> 0
B40: Contribuições - CSLL | C40: 0.0288 | D40: 0.09 | E40: {=_xlfn.IFS($F$2="Lucro Real",E36*$D40,$F$2="Lucro Presumido",E36*$C40,$F$2="",0)} -> 0 | F40: {=_xlfn.IFS($F$2="Lucro Real",F36*$D40,$F$2="Lucro Presumido",F36*$C40,$F$2="",0)} -> 0 | G40: {=_xlfn.IFS($F$2="Lucro Real",G36*$D40,$F$2="Lucro Presumido",G36*$C40,$F$2="",0)} -> 0 | H40: {=_xlfn.IFS($F$2="Lucro Real",H36*$D40,$F$2="Lucro Presumido",H36*$C40,$F$2="",0)} -> 0 | I40: {=_xlfn.IFS($F$2="Lucro Real",I36*$D40,$F$2="Lucro Presumido",I36*$C40,$F$2="",0)} -> 0 | J40: {=_xlfn.IFS($F$2="Lucro Real",J36*$D40,$F$2="Lucro Presumido",J36*$C40,$F$2="",0)} -> 0 | K40: {=_xlfn.IFS($F$2="Lucro Real",K36*$D40,$F$2="Lucro Presumido",K36*$C40,$F$2="",0)} -> 0 | L40: {=_xlfn.IFS($F$2="Lucro Real",L36*$D40,$F$2="Lucro Presumido",L36*$C40,$F$2="",0)} -> 0 | ... BW40: {=_xlfn.IFS($F$2="Lucro Real",BW36*$D40,$F$2="Lucro Presumido",BW36*$C40,$F$2="",0)} -> 0
E41: =SUM(E37+E39+E40) -> 1891.3 | F41: =SUM(F37+F39+F40) -> 2004.97 | G41: =SUM(G37+G39+G40) -> 2119.48 | H41: =SUM(H37+H39+H40) -> 3260.34 | I41: =SUM(I37+I39+I40) -> 3373.71 | J41: =SUM(J37+J39+J40) -> 3488.52 | K41: =SUM(K37+K39+K40) -> 4380 | L41: =SUM(L37+L39+L40) -> 6480 | ... BW41: =SUM(BW37+BW39+BW40) -> 4596.45
A42: TRIBUTOS SOBRE FATURAMENTO
...

Sheet Resumo Geral Preços
A1: Código | B1: Quantidade | C1: Perfil | D1: Valor Total por Perfil a Faturar | E1: Total Contratado
A2: AT-01 | B2: 6 | C2: Atendente Genérico JR | D2: ='Cenário Único'!E47 -> 2070.3886 | E2: =D2*B2 -> 12422.332 | G2: Perfis e quantidades mapeados para a contratação ao final do processo
A3: AT-02 | B3: 2 | C3: Atendente Genérico PL | D3: ='Cenário Único'!F47 -> 2194.8221 | E3: =D3*B3 -> 4389.6442 | G3: Perfis que poderão ser contratados ao longo da vigência contratual
A4: AT-03 | B4: 3 | C4: Atendente Genérico SR | D4: ='Cenário Único'!G47 -> 2320.1752 | E4: =D4*B4 -> 6960.5255
A5: ATE-01 | B5: 10 | C5: Atendente Especializado JR | D5: ='Cenário Único'!H47 -> 3569.064 | E5: =D5*B5 -> 35690.64
A6: ATE-02 | B6: 1 | C6: Atendente Especializado PL | D6: ='Cenário Único'!I47 -> 3693.1691 | E6: =D6*B6 -> 3693.1691
A7: ATE-03 | B7: 9 | C7: Atendente Especializado SR | D7: ='Cenário Único'!J47 -> 3818.8506 | E7: =D7*B7 -> 34369.655
A8: ACX-01 | B8: 1 | C8: Analista de Experiência JR | D8: ='Cenário Único'!K47 -> 4794.7455 | E8: =D8*B8 -> 4794.7455
A9: ACX-02 | B9: 1 | C9: Analista de Experiência PL | D9: ='Cenário Único'!L47 -> 7093.5961 | E9: =D9*B9 -> 7093.5961
A10: ACX-03 | B10: 1 | C10: Analista de Experiência SR | D10: ='Cenário Único'!M47 -> 9392.4466 | E10: =D10*B10 -> 9392.4466
A11: TI-01 | B11: 27 | C11: Analista de Serviços JR | D11: ='Cenário Único'!N47 -> 5692.1949 | E11: =D11*B11 -> 153689.26
A12: TI-02 | B12: 2 | C12: Analista de Serviços PL | D12: ='Cenário Único'!O47 -> 6379.0805 | E12: =D12*B12 -> 12758.161
A13: TI-03 | B13: 6 | C13: Analista de Serviços SR | D13: ='Cenário Único'!P47 -> 8243.0213 | E13: =D13*B13 -> 49458.128
A14: LID-02 | B14: 6 | C14: Supervisor JR | D14: ='Cenário Único'!Q47 -> 8243.0213 | E14: =D14*B14 -> 49458.128
A15: LID-03 | B15: 1 | C15: Supervisor PL | D15: ='Cenário Único'!R47 -> 9967.1593 | E15: =D15*B15 -> 9967.1593
A16: LID-04 | B16: 1 | C16: Supervisor SR | D16: ='Cenário Único'!S47 -> 11116.585 | E16: =D16*B16 -> 11116.585
A17: AP-01 | B17: 1 | C17: Analista de Projetos JR | D17: ='Cenário Único'!T47 -> 5192.6327 | E17: =D17*B17 -> 5192.6327
A18: AP-02 | B18: 5 | C18: Analista de Projetos PL | D18: ='Cenário Único'!U47 -> 6441.5326 | E18: =D18*B18 -> 32207.663
A19: AP-03 | B19: 2 | C19: Analista de Projetos SR | D19: ='Cenário Único'!V47 -> 8243.0213 | E19: =D19*B19 -> 16486.043
A20: ESP-01 | B20: 1 | C20: Especialista 1 | D20: ='Cenário Único'!W47 -> 12785.988 | E20: =D20*B20 -> 12785.988
A21: ESP-02 | B21: 1 | C21: Especialista 2 | D21: ='Cenário Único'!X47 -> 14402.934 | E21: =D21*B21 -> 14402.934
A22: ESP-03 | B22: 1 | C22: Especialista 3 | D22: ='Cenário Único'!Y47 -> 15522.715 | E22: =D22*B22 -> 15522.715
A23: SEG-01.1 | B23: 1 | C23: Analista de Segurança da Informação 1 - JR | D23: ='Cenário Único'!Z47 -> 6174.0558 | E23: =D23*B23 -> 6174.0558
A24: SEG-01.2 | B24: 1 | C24: Analista de Segurança da Informação 1 - PL | D24: ='Cenário Único'!AA47 -> 8995.9934 | E24: =D24*B24 -> 8995.9934
A25: SEG-01.3 | B25: 1 | C25: Analista de Segurança da Informação 1 - SR | D25: ='Cenário Único'!AB47 -> 12246.656 | E25: =D25*B25 -> 12246.656
A26: SEG-02.1 | B26: 1 | C26: Analista de Segurança da Informação 2 - JR | D26: ='Cenário Único'!AC47 -> 6996.497 | E26: =D26*B26 -> 6996.497
A27: SEG-02.2 | B27: 1 | C27: Analista de Segurança da Informação 2 - PL | D27: ='Cenário Único'!AD47 -> 10055.654 | E27: =D27*B27 -> 10055.654
A28: SEG-02.3 | B28: 1 | C28: Analista de Segurança da Informação 2 - SR | D28: ='Cenário Único'!AE47 -> 13005.67 | E28: =D28*B28 -> 13005.67
A29: SEG-03.1 | B29: 1 | C29: Analista de Segurança da Informação 3 - JR | D29: ='Cenário Único'!AF47 -> 7842.3426 | E29: =D29*B29 -> 7842.3426
A30: SEG-03.2 | B30: 1 | C30: Analista de Segurança da Informação 3 - PL | D30: ='Cenário Único'!AG47 -> 11093.76 | E30: =D30*B30 -> 11093.76
A31: SEG-03.3 | B31: 1 | C31: Analista de Segurança da Informação 3 - SR | D31: ='Cenário Único'!AH47 -> 13909.666 | E31: =D31*B31 -> 13909.666
A32: SEGESP-01 | B32: 1 | C32: Especialista de Segurança da Informação - Nível 1 | D32: ='Cenário Único'!AI47 -> 15062.846 | E32: =D32*B32 -> 15062.846
A33: SEGESP-02 | B33: 1 | C33: Especialista de Segurança da Informação - Nível 2 | D33: ='Cenário Único'!AJ47 -> 16058.862 | E33: =D33*B33 -> 16058.862
A34: SEGESP-03 | B34: 1 | C34: Especialista de Segurança da Informação - Nível 3 | D34: ='Cenário Único'!AK47 -> 17178.708 | E34: =D34*B34 -> 17178.708
A35: SEGLTO-01 | B35: 1 | C35: Líder Técnico de Segurança da Informação - Operação - Nível 1 | D35: ='Cenário Único'!AL47 -> 18027.794 | E35: =D35*B35 -> 18027.794
A36: SEGLTO-02 | B36: 1 | C36: Líder Técnico de Segurança da Informação - Operação - Nível 2 | D36: ='Cenário Único'!AM47 -> 19222.452 | E36: =D36*B36 -> 19222.452
A37: SEGLTO-03 | B37: 1 | C37: Líder Técnico de Segurança da Informação - Operação - Nível 3 | D37: ='Cenário Único'!AN47 -> 20565.627 | E37: =D37*B37 -> 20565.627
A38: SEGLTC-01 | B38: 1 | C38: Líder Técnico de Segurança da Informação - Core - Nível 1 | D38: ='Cenário Único'!AO47 -> 18027.794 | E38: =D38*B38 -> 18027.794
A39: SEGLTC-02 | B39: 1 | C39: Líder Técnico de Segurança da Informação - Core - Nível 2 | D39: ='Cenário Único'!AP47 -> 19222.452 | E39: =D39*B39 -> 19222.452
A40: SEGLTC-03 | B40: 1 | C40: Líder Técnico de Segurança da Informação - Core - Nível 3 | D40: ='Cenário Único'!AQ47 -> 20565.627 | E40: =D40*B40 -> 20565.627
...

Sheet Referências
C1: CUSTO TOTAL DE ENCARGOS POR REGIME (% sobre salário)
C2: Componente | D2: Lucro Presumido/ Real - FPAS 655 (Trabalhador Temporário) | E2: Lucro Presumido/Real - FPAS 515 (Trabalhador Permanente)
C3: Salário mensal (R$)
C4: Provisão de 13º (bruta) | D4: 0.083333333 | E4: 0.083333333
C5: Provisão de Férias (bruta) acrescidas de 1/3 constitucional | D5: 0.11111111 | E5: 0.11111111
C6: FGTS | D6: =SUM(D7:D9) -> 0.095555556 | E6: =SUM(E7:E9) -> 0.095555556
C7: FGTS / Salário | D7: 0.08 | E7: 0.08
C8: FGTS / 13º | D8: 0.0066666667 | E8: 0.0066666667
C9: FGTS / Férias | D9: 0.0088888889 | E9: 0.0088888889
C10: INSS PATRONAL / CPP | D10: =SUM(D11:D13) -> 0.23888889 | E10: =SUM(E11:E13) -> 0.23888889
C11: INSS Patronal / Salário | D11: 0.2 | E11: 0.2
C12: INSS Patronal / 13º | D12: 0.016666667 | E12: 0.016666667
C13: INSS Patronal / Férias | D13: 0.022222222 | E13: 0.022222222
C14: RAT AJUSTADO PELO FAP | D14: =SUM(D15:D17) -> 0.035833333 | E14: =SUM(E15:E17) -> 0.035833333
C15: RAT ajustado / Salário | D15: 0.03 | E15: 0.03
C16: RAT ajustado / 13º | D16: 0.0025 | E16: 0.0025
C17: RAT ajustado / Férias | D17: 0.0033333333 | E17: 0.0033333333
C18: CONTRIBUIÇÃO A TERCEIROS / SISTEMA S | D18: =SUM(D19:D21) -> 0.029861111 | E18: =SUM(E19:E21) -> 0.069277778
C19: Terceiros / Salário | D19: 0.025 | E19: 0.058
C20: Terceiros / 13º | D20: 0.0020833333 | E20: 0.0048333333
C21: Terceiros / Férias | D21: 0.0027777778 | E21: 0.0064444444
C22: RESCISÃO CONTRATUAL | D22: =SUM(D23) -> 0.12155413 | E22: =SUM(E23) -> 0.12155413
C23: *Provisão de risco de rescisão - Aviso prévio Indenizado + Multa 40% FGTS | D23: 0.12155413 | E23: 0.12155413
C24: TOTAL — encargos mensais como % do salário | D24: =SUM(D4+D5+D6+D10+D14+D18+D22) -> 0.71613747 | E24: =SUM(E4+E5+E6+E10+E14+E18+E22) -> 0.75555413
C25: *Provisão de risco de rescisão Multa 40% FGTS | D25: 0.032 | E25: 0.032
C27: TRIBUTOS | D27: BASE DE INCIDÊNCIA | E27: LUCRO PRESUMIDO | F27: LUCRO REAL
C28: PIS/PASEP | D28: Receita bruta | E28: 0,65% (cumulativo) | F28: 1,65% (não-cumulativo, com créditos)
C29: COFINS | D29: Receita bruta | E29: 3,00% (cumulativo) | F29: 7,60% (não-cumulativo, com créditos)
C30: IRPJ | D30: Lucro presumido (32% da RB) ou Lucro Real | E30: 4,80% efetivo sobre RB (+ adicional) | F30: 15% sobre lucro real (+ adicional)
C31: CSLL | D31: Lucro presumido (32% da RB) ou Resultado ajustado | E31: 2,88% efetivo sobre RB | F31: 9% sobre resultado ajustado
C32: ISS | D32: Preço do serviço (receita bruta) | E32: 2% a 5% (conforme município) | F32: 2% a 5% (conforme município)
C33: CARGA MÍNIMA S/ FATURAMENTO (sem ISS, sem adicionais) | E33: ≈ 11,33% (PIS 0,65% + COFINS 3% + IRPJ 4,80% + CSLL 2,88%) | F33: ≈ 9,25% (PIS+COFINS) + IRPJ/CSLL variável conforme lucro efetivo
C38: Tributo | D38: LUCRO PRESUMIDO - Margem de presunção 32% | E38: LUCRO REAL | F38: BASE DE CÁLCULO
C39: PIS | D39: 0.0065 | E39: 0.0165 | F39: RECEITA BRUTA
C40: COFINS | D40: 0.03 | E40: 0.076
C41: ISS | D41: 0.05 | E41: 0.05
C42: IRPJ** | D42: 0.048 | E42: 0.15 | F42: Lucro fiscal
C43: CSLL** | D43: 0.0288 | E43: 0.09
C47: NOTAS IMPORTANTES
C48: 1. ISS: a alíquota varia de 2% a 5% conforme legislação de cada município. O ISS é retido pelo tomador nos municípios que assim determinarem (LC 116/2003, art. 6º, II).
...

Sheet CENARIO 3
B2: PLANILHA DE CUSTOS E FORMAÇÃO DE PREÇOS
B3: QUADRO RESUMO DO CUSTO POR PERFIL - Alocado na Contratada / Equipamento Fornecido pelo Cliente
B4: SALÁRIO E ENCARGOS | D4: ATENDENTE GENÉRICO | G4: ATENDENTE ESPECIALIZADO | J4: ATENDENTE NÍVEL 2 | L4: ANALISTA DE QUALIDADE (QA) | O4: ANALISTA DE SERVIÇOS | R4: ANALISTA DE OBSERVABILITY | S4: ANALISTA DE PROJETOS | V4: ESPECIALISTA | Y4: ANALISTA DE SEGURANÇA DA INFORMAÇÃO 1 | AB4: ANALISTA DE SEGURANÇA DA INFORMAÇÃO 2 | AE4: ANALISTA DE SEGURANÇA DA INFORMAÇÃO 3 | AH4: ANALISTA DE NEGÓCIOS | AK4: ANALISTA DE PROCESSOS | AN4: ANALISTA DE TELECOMUNICAÇÕES | AP4: ANALISTA DE OPERAÇÕES N1 | AS4: ANALISTA DE OPERAÇÕES N2 - BACKBONE | AV4: ANALISTA DE OPERAÇÕES N2 - METRO | AY4: ANALISTA DE OPERAÇÕES N2 - TRANSMISSÃO | BB4: ANALISTA DE OPERAÇÕES N3 - BACKBONE | BD4: ANALISTA DE OPERAÇÕES N3 - METRO | BF4: ANALISTA DE OPERAÇÕES N3 - TRANSMISSÃO | BH4: COORDENADOR NOC | BJ4: LÍDER TÉCNICO NOC | BL4: ANALISTA DE OSS | BO4: ASSISTENTE DE DOCUMENTAÇÃO | BR4: ANALISTA DE CONTRATOS E PARCERIAS | BT4: ANALISTA DE QUALIDADE (AQ) | BW4: ASSISTENTE DE LOGÍSTICA
D5: JUNIOR | E5: PLENO | F5: SÊNIOR | G5: JUNIOR | H5: PLENO | I5: SÊNIOR | J5: PLENO | K5: SÊNIOR | L5: JUNIOR | M5: PLENO | N5: SÊNIOR | O5: JUNIOR | P5: PLENO | Q5: SÊNIOR | R5: - | S5: JUNIOR | T5: PLENO | U5: SÊNIOR | V5: NÍVEL 1 | W5: NÍVEL 2 | X5: NÍVEL 3 | Y5: JUNIOR | Z5: PLENO | AA5: SÊNIOR | AB5: JUNIOR | AC5: PLENO | AD5: SÊNIOR | AE5: JUNIOR | AF5: PLENO | AG5: SÊNIOR | AH5: JUNIOR | AI5: PLENO | AJ5: SÊNIOR | AK5: JUNIOR | AL5: PLENO | AM5: SÊNIOR | AN5: JUNIOR | AO5: PLENO | AP5: JUNIOR | AQ5: PLENO | AR5: SÊNIOR | AS5: JUNIOR | AT5: PLENO | AU5: SÊNIOR | AV5: JUNIOR | AW5: PLENO | AX5: SÊNIOR | AY5: JUNIOR | AZ5: PLENO | BA5: SÊNIOR | BB5: PLENO | BC5: SÊNIOR | BD5: PLENO | BE5: SÊNIOR | BF5: PLENO | BG5: SÊNIOR | BH5: PLENO | BI5: SÊNIOR | BJ5: PLENO | BK5: SÊNIOR | BL5: JUNIOR | BM5: PLENO | BN5: SÊNIOR | BO5: JUNIOR | BP5: PLENO | BQ5: SÊNIOR | BR5: PLENO | BS5: SÊNIOR | BT5: JUNIOR | BU5: PLENO | BV5: SÊNIOR | BW5: JUNIOR | BX5: PLENO | BY5: SÊNIOR
B6: A | C6: Remuneração | D6: 1629.81 | E6: 1738.07 | F6: 1847.12 | G6: 2933.66 | H6: 3041.63 | I6: 3150.97 | J6: 4400.49 | K6: 4780.78 | L6: 3041.63 | M6: 4400.49 | N6: 5377.17 | O6: 4780.78 | P6: 5378.37 | Q6: 7000 | R6: 7000 | S6: 4346.16 | T6: 5432.7 | U6: 7000 | V6: 8000 | W6: 10000 | X6: 11500 | Y6: 5593.8 | Z6: 6426.8 | AA6: 7726.8 | AB6: 8744.14 | AC6: 9944 | AD6: 10443.5 | AE6: 11143.5 | AF6: 11929.98 | AG6: 13093.5 | AH6: 4346.16 | AI6: 5432.7 | AJ6: 7000 | AK6: 4346.16 | AL6: 5432.7 | AM6: 7000 | AN6: 4780.78 | AO6: 5378.37
B7: B | C7: Encargos Sociais
B8: C | C8: Benefícios Anuais, Mensais e Diários
B9: D | C9: Provisão para Rescisão
B10: E | C10: Custo de Reposição do Profissional Ausente
B11: F | C11: Insumos Diversos, inclusive equipamentos
B12: G | C12: Provisão de Férias e 13º Salário
B13: ESPECIFICAR TRIBUTOS
B14: H | C14: Tributos federais - PIS
B15: I | C15: Tributos federais - COFINS
B16: J | C16: Tributos estaduais - especificar
B17: K | C17: Tributos municipais/distritais - ISSQN
B18: L | C18: Outros Tributos - CSLL/IRPJ
B19: CUSTOS INDIRETOS
B20: M | C20: Custos Indiretos e Tributos
B21: LUCRO
B22: N | C22: Margem
B23: VALOR TOTAL POR PERFIL | D23: =SUM(D6:D12)+SUM(D14:D18)+D20+D22 -> 1629.81 | E23: =SUM(E6:E12)+SUM(E14:E18)+E20+E22 -> 1738.07 | F23: =SUM(F6:F12)+SUM(F14:F18)+F20+F22 -> 1847.12 | G23: =SUM(G6:G12)+SUM(G14:G18)+G20+G22 -> 2933.66 | H23: =SUM(H6:H12)+SUM(H14:H18)+H20+H22 -> 3041.63 | I23: =SUM(I6:I12)+SUM(I14:I18)+I20+I22 -> 3150.97 | J23: =SUM(J6:J12)+SUM(J14:J18)+J20+J22 -> 4400.49 | K23: =SUM(K6:K12)+SUM(K14:K18)+K20+K22 -> 4780.78 | ... BY23: =SUM(BY6:BY12)+SUM(BY14:BY18)+BY20+BY22 -> 0

Sheet CENARIO 4
B2: PLANILHA DE CUSTOS E FORMAÇÃO DE PREÇOS
B3: QUADRO RESUMO DO CUSTO POR PERFIL - Alocado na Contratada / Equipamento Fornecido pela Contratada
B4: SALÁRIO E ENCARGOS | D4: ATENDENTE GENÉRICO | G4: ATENDENTE ESPECIALIZADO | J4: ATENDENTE NÍVEL 2 | L4: ANALISTA DE QUALIDADE (QA) | O4: ANALISTA DE SERVIÇOS | R4: ANALISTA DE OBSERVABILITY | S4: ANALISTA DE PROJETOS | V4: ESPECIALISTA | Y4: ANALISTA DE SEGURANÇA DA INFORMAÇÃO 1 | AB4: ANALISTA DE SEGURANÇA DA INFORMAÇÃO 2 | AE4: ANALISTA DE SEGURANÇA DA INFORMAÇÃO 3 | AH4: ANALISTA DE NEGÓCIOS | AK4: ANALISTA DE PROCESSOS | AN4: ANALISTA DE TELECOMUNICAÇÕES | AP4: ANALISTA DE OPERAÇÕES N1 | AS4: ANALISTA DE OPERAÇÕES N2 - BACKBONE | AV4: ANALISTA DE OPERAÇÕES N2 - METRO | AY4: ANALISTA DE OPERAÇÕES N2 - TRANSMISSÃO | BB4: ANALISTA DE OPERAÇÕES N3 - BACKBONE | BD4: ANALISTA DE OPERAÇÕES N3 - METRO | BF4: ANALISTA DE OPERAÇÕES N3 - TRANSMISSÃO | BH4: COORDENADOR NOC | BJ4: LÍDER TÉCNICO NOC | BL4: ANALISTA DE OSS | BO4: ASSISTENTE DE DOCUMENTAÇÃO | BR4: ANALISTA DE CONTRATOS E PARCERIAS | BT4: ANALISTA DE QUALIDADE (AQ) | BW4: ASSISTENTE DE LOGÍSTICA
D5: JUNIOR | E5: PLENO | F5: SÊNIOR | G5: JUNIOR | H5: PLENO | I5: SÊNIOR | J5: PLENO | K5: SÊNIOR | L5: JUNIOR | M5: PLENO | N5: SÊNIOR | O5: JUNIOR | P5: PLENO | Q5: SÊNIOR | R5: - | S5: JUNIOR | T5: PLENO | U5: SÊNIOR | V5: NÍVEL 1 | W5: NÍVEL 2 | X5: NÍVEL 3 | Y5: JUNIOR | Z5: PLENO | AA5: SÊNIOR | AB5: JUNIOR | AC5: PLENO | AD5: SÊNIOR | AE5: JUNIOR | AF5: PLENO | AG5: SÊNIOR | AH5: JUNIOR | AI5: PLENO | AJ5: SÊNIOR | AK5: JUNIOR | AL5: PLENO | AM5: SÊNIOR | AN5: JUNIOR | AO5: PLENO | AP5: JUNIOR | AQ5: PLENO | AR5: SÊNIOR | AS5: JUNIOR | AT5: PLENO | AU5: SÊNIOR | AV5: JUNIOR | AW5: PLENO | AX5: SÊNIOR | AY5: JUNIOR | AZ5: PLENO | BA5: SÊNIOR | BB5: PLENO | BC5: SÊNIOR | BD5: PLENO | BE5: SÊNIOR | BF5: PLENO | BG5: SÊNIOR | BH5: PLENO | BI5: SÊNIOR | BJ5: PLENO | BK5: SÊNIOR | BL5: JUNIOR | BM5: PLENO | BN5: SÊNIOR | BO5: JUNIOR | BP5: PLENO | BQ5: SÊNIOR | BR5: PLENO | BS5: SÊNIOR | BT5: JUNIOR | BU5: PLENO | BV5: SÊNIOR | BW5: JUNIOR | BX5: PLENO | BY5: SÊNIOR
B6: A | C6: Remuneração | D6: 1629.81 | E6: 1738.07 | F6: 1847.12 | G6: 2933.66 | H6: 3041.63 | I6: 3150.97 | J6: 4400.49 | K6: 4780.78 | L6: 3041.63 | M6: 4400.49 | N6: 5377.17 | O6: 4780.78 | P6: 5378.37 | Q6: 7000 | R6: 7000 | S6: 4346.16 | T6: 5432.7 | U6: 7000 | V6: 8000 | W6: 10000 | X6: 11500 | Y6: 5593.8 | Z6: 6426.8 | AA6: 7726.8 | AB6: 8744.14 | AC6: 9944 | AD6: 10443.5 | AE6: 11143.5 | AF6: 11929.98 | AG6: 13093.5 | AH6: 4346.16 | AI6: 5432.7 | AJ6: 7000 | AK6: 4346.16 | AL6: 5432.7 | AM6: 7000 | AN6: 4780.78 | AO6: 5378.37
B7: B | C7: Encargos Sociais
B8: C | C8: Benefícios Anuais, Mensais e Diários
B9: D | C9: Provisão para Rescisão
B10: E | C10: Custo de Reposição do Profissional Ausente
B11: F | C11: Insumos Diversos, inclusive equipamentos
B12: G | C12: Provisão de Férias e 13º Salário
B13: ESPECIFICAR TRIBUTOS
B14: H | C14: Tributos federais - PIS
B15: I | C15: Tributos federais - COFINS
B16: J | C16: Tributos estaduais - especificar
B17: K | C17: Tributos municipais/distritais - ISSQN
B18: L | C18: Outros Tributos - CSLL/IRPJ
B19: CUSTOS INDIRETOS
B20: M | C20: Custos Indiretos e Tributos
B21: LUCRO
B22: N | C22: Margem
B23: VALOR TOTAL POR PERFIL | D23: =SUM(D6:D12)+SUM(D14:D18)+D20+D22 -> 1629.81 | E23: =SUM(E6:E12)+SUM(E14:E18)+E20+E22 -> 1738.07 | F23: =SUM(F6:F12)+SUM(F14:F18)+F20+F22 -> 1847.12 | G23: =SUM(G6:G12)+SUM(G14:G18)+G20+G22 -> 2933.66 | H23: =SUM(H6:H12)+SUM(H14:H18)+H20+H22 -> 3041.63 | I23: =SUM(I6:I12)+SUM(I14:I18)+I20+I22 -> 3150.97 | J23: =SUM(J6:J12)+SUM(J14:J18)+J20+J22 -> 4400.49 | K23: =SUM(K6:K12)+SUM(K14:K18)+K20+K22 -> 4780.78 | ... BY23: =SUM(BY6:BY12)+SUM(BY14:BY18)+BY20+BY22 -> 0
