Workbook

Sheet Formato da proposta
A1: Formato da proposta
A2: Ponta A | D2: Ponta B | F2: Parâmetros técnicos (Preenchimento obrigatório) | V2: Valores em R$ com impostos para contrato de 24 meses
A3: Item | B3: UF | C3: PoP de conexão | D3: Organização Usuária | E3: Campus | F3: Banda (Mb/s) | G3: Modalidade de conexão | H3: Pontuação | I3: Meio físico de transmissão | J3: Pontuação | K3: Dupla/Múltiplas abordagens? | L3: Pontuação | M3: Infraestrutura própria ou de parceiros? | N3: Nome do parceiro | O3: Prazo de entrega (dias) | P3: Pontuação | Q3: SLA (%) | R3: Latência (ms) | S3: Taxa de perda de pacotes (%) | T3: Vazão (throughput) (%) | U3: Valor final | V3: Mensal (R$) | W3: Instalação (R$) | X3: Total
A4: 1 | B4: ES | C4: PoP-ES | D4: Centro de Tecnologia Mineral (CETEM) | E4: Núcleo Regional de Cachoeiro de Itapemirim | F4: 1000 | H4: =IF(G4="Circuito Metro Ethernet",10,IF(G4="Circuito Metro Ethernet com 5G FWA", 5, IF(G4="Porta IP com túnel GRE",1,0))) -> 0 | J4: =IF(I4="Fibra óptica", 10,IF(I4="Fibra óptica + Enlace de rádio de frequência licenciada",8,IF(I4="Fibra óptica + Rede móvel 4G/5G",6,IF(I4="Enlace de rádio de frequência licenciada",5,IF(I4="Fibra óptica + Satélite",3,IF(I4="Enlace de rádio de frequência licenciada + Satélite",2,IF(I4="Satélite",1,0))))))) -> 0 | L4: =IF(K4="Sim, em ambas as pontas",5,IF(K4="Sim, apenas na ponta do PoP",3,IF(K4="Sim, apenas na ponta do Campus",2,IF(K4="Não",1,0)))) -> 0 | P4: =IF(AND(0<O4,O4<=30),10,IF(AND(31<=O4,O4<=45),8,IF(AND(46<=O4,O4<=60),6,IF(AND(61<=O4,O4<=90),2,0)))) -> 0 | U4: =SUM(H4,J4,L4,P4) -> 0 | V4: 0 | W4: 0 | X4: =(V4*24)+W4 -> 0
A5: 2 | B5: ES | C5: PoP-ES | D5: Instituto Federal de Educação, Ciência e Tecnologia do Espírito Santo (IFES) | E5: Campus Cachoeiro do Itapemirim | F5: 1000 | H5: =IF(G5="Circuito Metro Ethernet",10,IF(G5="Circuito Metro Ethernet com 5G FWA", 5, IF(G5="Porta IP com túnel GRE",1,0))) -> 0 | J5: =IF(I5="Fibra óptica", 10,IF(I5="Fibra óptica + Enlace de rádio de frequência licenciada",8,IF(I5="Fibra óptica + Rede móvel 4G/5G",6,IF(I5="Enlace de rádio de frequência licenciada",5,IF(I5="Fibra óptica + Satélite",3,IF(I5="Enlace de rádio de frequência licenciada + Satélite",2,IF(I5="Satélite",1,0))))))) -> 0 | L5: =IF(K5="Sim, em ambas as pontas",5,IF(K5="Sim, apenas na ponta do PoP",3,IF(K5="Sim, apenas na ponta do Campus",2,IF(K5="Não",1,0)))) -> 0 | P5: =IF(AND(0<O5,O5<=30),10,IF(AND(31<=O5,O5<=45),8,IF(AND(46<=O5,O5<=60),6,IF(AND(61<=O5,O5<=90),2,0)))) -> 0 | U5: =SUM(H5,J5,L5,P5) -> 0 | V5: 0 | W5: 0 | X5: =(V5*24)+W5 -> 0
A6: 3 | B6: MG | C6: PoP-MG | D6: Instituto Federal de Educação, Ciência e Tecnologia de Minas Gerais (IFMG) | E6: Campus Reitoria | F6: 1000 | H6: =IF(G6="Circuito Metro Ethernet",10,IF(G6="Circuito Metro Ethernet com 5G FWA", 5, IF(G6="Porta IP com túnel GRE",1,0))) -> 0 | J6: =IF(I6="Fibra óptica", 10,IF(I6="Fibra óptica + Enlace de rádio de frequência licenciada",8,IF(I6="Fibra óptica + Rede móvel 4G/5G",6,IF(I6="Enlace de rádio de frequência licenciada",5,IF(I6="Fibra óptica + Satélite",3,IF(I6="Enlace de rádio de frequência licenciada + Satélite",2,IF(I6="Satélite",1,0))))))) -> 0 | L6: =IF(K6="Sim, em ambas as pontas",5,IF(K6="Sim, apenas na ponta do PoP",3,IF(K6="Sim, apenas na ponta do Campus",2,IF(K6="Não",1,0)))) -> 0 | P6: =IF(AND(0<O6,O6<=30),10,IF(AND(31<=O6,O6<=45),8,IF(AND(46<=O6,O6<=60),6,IF(AND(61<=O6,O6<=90),2,0)))) -> 0 | U6: =SUM(H6,J6,L6,P6) -> 0 | V6: 0 | W6: 0 | X6: =(V6*24)+W6 -> 0
A7: 4 | B7: MG | C7: PoP-MG | D7: Instituto Federal de Educação, Ciência e Tecnologia do Norte de Minas Gerais (IFNMG) | E7: Campus Arinos | F7: 1000 | H7: =IF(G7="Circuito Metro Ethernet",10,IF(G7="Circuito Metro Ethernet com 5G FWA", 5, IF(G7="Porta IP com túnel GRE",1,0))) -> 0 | J7: =IF(I7="Fibra óptica", 10,IF(I7="Fibra óptica + Enlace de rádio de frequência licenciada",8,IF(I7="Fibra óptica + Rede móvel 4G/5G",6,IF(I7="Enlace de rádio de frequência licenciada",5,IF(I7="Fibra óptica + Satélite",3,IF(I7="Enlace de rádio de frequência licenciada + Satélite",2,IF(I7="Satélite",1,0))))))) -> 0 | L7: =IF(K7="Sim, em ambas as pontas",5,IF(K7="Sim, apenas na ponta do PoP",3,IF(K7="Sim, apenas na ponta do Campus",2,IF(K7="Não",1,0)))) -> 0 | P7: =IF(AND(0<O7,O7<=30),10,IF(AND(31<=O7,O7<=45),8,IF(AND(46<=O7,O7<=60),6,IF(AND(61<=O7,O7<=90),2,0)))) -> 0 | U7: =SUM(H7,J7,L7,P7) -> 0 | V7: 0 | W7: 0 | X7: =(V7*24)+W7 -> 0
A8: 5 | B8: MG | C8: PoP-MG | D8: Instituto Federal de Educação, Ciência e Tecnologia do Sul de Minas Gerais (IFSulMG) | E8: Campus Inconfidentes | F8: 1000 | H8: =IF(G8="Circuito Metro Ethernet",10,IF(G8="Circuito Metro Ethernet com 5G FWA", 5, IF(G8="Porta IP com túnel GRE",1,0))) -> 0 | J8: =IF(I8="Fibra óptica", 10,IF(I8="Fibra óptica + Enlace de rádio de frequência licenciada",8,IF(I8="Fibra óptica + Rede móvel 4G/5G",6,IF(I8="Enlace de rádio de frequência licenciada",5,IF(I8="Fibra óptica + Satélite",3,IF(I8="Enlace de rádio de frequência licenciada + Satélite",2,IF(I8="Satélite",1,0))))))) -> 0 | L8: =IF(K8="Sim, em ambas as pontas",5,IF(K8="Sim, apenas na ponta do PoP",3,IF(K8="Sim, apenas na ponta do Campus",2,IF(K8="Não",1,0)))) -> 0 | P8: =IF(AND(0<O8,O8<=30),10,IF(AND(31<=O8,O8<=45),8,IF(AND(46<=O8,O8<=60),6,IF(AND(61<=O8,O8<=90),2,0)))) -> 0 | U8: =SUM(H8,J8,L8,P8) -> 0 | V8: 0 | W8: 0 | X8: =(V8*24)+W8 -> 0
A9: 6 | B9: MG | C9: PoP-MG | D9: Instituto Federal de Educação, Ciência e Tecnologia do Triângulo Mineiro (IFTM) | E9: Campus Avançado Campina Verde | F9: 1000 | H9: =IF(G9="Circuito Metro Ethernet",10,IF(G9="Circuito Metro Ethernet com 5G FWA", 5, IF(G9="Porta IP com túnel GRE",1,0))) -> 0 | J9: =IF(I9="Fibra óptica", 10,IF(I9="Fibra óptica + Enlace de rádio de frequência licenciada",8,IF(I9="Fibra óptica + Rede móvel 4G/5G",6,IF(I9="Enlace de rádio de frequência licenciada",5,IF(I9="Fibra óptica + Satélite",3,IF(I9="Enlace de rádio de frequência licenciada + Satélite",2,IF(I9="Satélite",1,0))))))) -> 0 | L9: =IF(K9="Sim, em ambas as pontas",5,IF(K9="Sim, apenas na ponta do PoP",3,IF(K9="Sim, apenas na ponta do Campus",2,IF(K9="Não",1,0)))) -> 0 | P9: =IF(AND(0<O9,O9<=30),10,IF(AND(31<=O9,O9<=45),8,IF(AND(46<=O9,O9<=60),6,IF(AND(61<=O9,O9<=90),2,0)))) -> 0 | U9: =SUM(H9,J9,L9,P9) -> 0 | V9: 0 | W9: 0 | X9: =(V9*24)+W9 -> 0
A10: 7 | B10: MG | C10: PoP-MG | D10: Instituto Federal de Educação, Ciência e Tecnologia do Triângulo Mineiro (IFTM) | E10: Campus Paracatu | F10: 1000 | H10: =IF(G10="Circuito Metro Ethernet",10,IF(G10="Circuito Metro Ethernet com 5G FWA", 5, IF(G10="Porta IP com túnel GRE",1,0))) -> 0 | J10: =IF(I10="Fibra óptica", 10,IF(I10="Fibra óptica + Enlace de rádio de frequência licenciada",8,IF(I10="Fibra óptica + Rede móvel 4G/5G",6,IF(I10="Enlace de rádio de frequência licenciada",5,IF(I10="Fibra óptica + Satélite",3,IF(I10="Enlace de rádio de frequência licenciada + Satélite",2,IF(I10="Satélite",1,0))))))) -> 0 | L10: =IF(K10="Sim, em ambas as pontas",5,IF(K10="Sim, apenas na ponta do PoP",3,IF(K10="Sim, apenas na ponta do Campus",2,IF(K10="Não",1,0)))) -> 0 | P10: =IF(AND(0<O10,O10<=30),10,IF(AND(31<=O10,O10<=45),8,IF(AND(46<=O10,O10<=60),6,IF(AND(61<=O10,O10<=90),2,0)))) -> 0 | U10: =SUM(H10,J10,L10,P10) -> 0 | V10: 0 | W10: 0 | X10: =(V10*24)+W10 -> 0
A11: 8 | B11: MG | C11: PoP-MG | D11: Instituto Federal de Educação, Ciência e Tecnologia do Sudeste de Minas Gerais (IFSudesteMG) | E11: Campus Avançado Ubá | F11: 1000 | H11: =IF(G11="Circuito Metro Ethernet",10,IF(G11="Circuito Metro Ethernet com 5G FWA", 5, IF(G11="Porta IP com túnel GRE",1,0))) -> 0 | J11: =IF(I11="Fibra óptica", 10,IF(I11="Fibra óptica + Enlace de rádio de frequência licenciada",8,IF(I11="Fibra óptica + Rede móvel 4G/5G",6,IF(I11="Enlace de rádio de frequência licenciada",5,IF(I11="Fibra óptica + Satélite",3,IF(I11="Enlace de rádio de frequência licenciada + Satélite",2,IF(I11="Satélite",1,0))))))) -> 0 | L11: =IF(K11="Sim, em ambas as pontas",5,IF(K11="Sim, apenas na ponta do PoP",3,IF(K11="Sim, apenas na ponta do Campus",2,IF(K11="Não",1,0)))) -> 0 | P11: =IF(AND(0<O11,O11<=30),10,IF(AND(31<=O11,O11<=45),8,IF(AND(46<=O11,O11<=60),6,IF(AND(61<=O11,O11<=90),2,0)))) -> 0 | U11: =SUM(H11,J11,L11,P11) -> 0 | V11: 0 | W11: 0 | X11: =(V11*24)+W11 -> 0
A12: 9 | B12: MG | C12: PoP-MG | D12: Laboratório Nacional de Astrofísica (LNA) | E12: Observatório do Pico dos Dias | F12: 1000 | H12: =IF(G12="Circuito Metro Ethernet",10,IF(G12="Circuito Metro Ethernet com 5G FWA", 5, IF(G12="Porta IP com túnel GRE",1,0))) -> 0 | J12: =IF(I12="Fibra óptica", 10,IF(I12="Fibra óptica + Enlace de rádio de frequência licenciada",8,IF(I12="Fibra óptica + Rede móvel 4G/5G",6,IF(I12="Enlace de rádio de frequência licenciada",5,IF(I12="Fibra óptica + Satélite",3,IF(I12="Enlace de rádio de frequência licenciada + Satélite",2,IF(I12="Satélite",1,0))))))) -> 0 | L12: =IF(K12="Sim, em ambas as pontas",5,IF(K12="Sim, apenas na ponta do PoP",3,IF(K12="Sim, apenas na ponta do Campus",2,IF(K12="Não",1,0)))) -> 0 | P12: =IF(AND(0<O12,O12<=30),10,IF(AND(31<=O12,O12<=45),8,IF(AND(46<=O12,O12<=60),6,IF(AND(61<=O12,O12<=90),2,0)))) -> 0 | U12: =SUM(H12,J12,L12,P12) -> 0 | V12: 0 | W12: 0 | X12: =(V12*24)+W12 -> 0
A13: 10 | B13: MG | C13: PoP-MG | D13: Universidade Federal de Juiz de Fora (UFJF) | E13: Campus Juiz de Fora | F13: 2000 | H13: =IF(G13="Circuito Metro Ethernet",10,IF(G13="Circuito Metro Ethernet com 5G FWA", 5, IF(G13="Porta IP com túnel GRE",1,0))) -> 0 | J13: =IF(I13="Fibra óptica", 10,IF(I13="Fibra óptica + Enlace de rádio de frequência licenciada",8,IF(I13="Fibra óptica + Rede móvel 4G/5G",6,IF(I13="Enlace de rádio de frequência licenciada",5,IF(I13="Fibra óptica + Satélite",3,IF(I13="Enlace de rádio de frequência licenciada + Satélite",2,IF(I13="Satélite",1,0))))))) -> 0 | L13: =IF(K13="Sim, em ambas as pontas",5,IF(K13="Sim, apenas na ponta do PoP",3,IF(K13="Sim, apenas na ponta do Campus",2,IF(K13="Não",1,0)))) -> 0 | P13: =IF(AND(0<O13,O13<=30),10,IF(AND(31<=O13,O13<=45),8,IF(AND(46<=O13,O13<=60),6,IF(AND(61<=O13,O13<=90),2,0)))) -> 0 | U13: =SUM(H13,J13,L13,P13) -> 0 | V13: 0 | W13: 0 | X13: =(V13*24)+W13 -> 0
A14: 11 | B14: MG | C14: PoP-MG | D14: Universidade Federal de Minas Gerais (UFMG) | E14: Observatório Astronômico Frei Rosário | F14: 1000 | H14: =IF(G14="Circuito Metro Ethernet",10,IF(G14="Circuito Metro Ethernet com 5G FWA", 5, IF(G14="Porta IP com túnel GRE",1,0))) -> 0 | J14: =IF(I14="Fibra óptica", 10,IF(I14="Fibra óptica + Enlace de rádio de frequência licenciada",8,IF(I14="Fibra óptica + Rede móvel 4G/5G",6,IF(I14="Enlace de rádio de frequência licenciada",5,IF(I14="Fibra óptica + Satélite",3,IF(I14="Enlace de rádio de frequência licenciada + Satélite",2,IF(I14="Satélite",1,0))))))) -> 0 | L14: =IF(K14="Sim, em ambas as pontas",5,IF(K14="Sim, apenas na ponta do PoP",3,IF(K14="Sim, apenas na ponta do Campus",2,IF(K14="Não",1,0)))) -> 0 | P14: =IF(AND(0<O14,O14<=30),10,IF(AND(31<=O14,O14<=45),8,IF(AND(46<=O14,O14<=60),6,IF(AND(61<=O14,O14<=90),2,0)))) -> 0 | U14: =SUM(H14,J14,L14,P14) -> 0 | V14: 0 | W14: 0 | X14: =(V14*24)+W14 -> 0
A15: 12 | B15: MG | C15: PoP-MG | D15: Universidade Federal de Viçosa (UFV) | E15: Central de Experimentação, Pesquisa e Extensão do Triângulo Mineiro | F15: 1000 | H15: =IF(G15="Circuito Metro Ethernet",10,IF(G15="Circuito Metro Ethernet com 5G FWA", 5, IF(G15="Porta IP com túnel GRE",1,0))) -> 0 | J15: =IF(I15="Fibra óptica", 10,IF(I15="Fibra óptica + Enlace de rádio de frequência licenciada",8,IF(I15="Fibra óptica + Rede móvel 4G/5G",6,IF(I15="Enlace de rádio de frequência licenciada",5,IF(I15="Fibra óptica + Satélite",3,IF(I15="Enlace de rádio de frequência licenciada + Satélite",2,IF(I15="Satélite",1,0))))))) -> 0 | L15: =IF(K15="Sim, em ambas as pontas",5,IF(K15="Sim, apenas na ponta do PoP",3,IF(K15="Sim, apenas na ponta do Campus",2,IF(K15="Não",1,0)))) -> 0 | P15: =IF(AND(0<O15,O15<=30),10,IF(AND(31<=O15,O15<=45),8,IF(AND(46<=O15,O15<=60),6,IF(AND(61<=O15,O15<=90),2,0)))) -> 0 | U15: =SUM(H15,J15,L15,P15) -> 0 | V15: 0 | W15: 0 | X15: =(V15*24)+W15 -> 0
... A33: 30 | B33: GO | C33: PoP-GO | D33: Universidade Federal de Goiás (UFG) | E33: Campus Cidade Ocidental | F33: 1000 | H33: =IF(G33="Circuito Metro Ethernet",10,IF(G33="Circuito Metro Ethernet com 5G FWA", 5, IF(G33="Porta IP com túnel GRE",1,0))) -> 0 | J33: =IF(I33="Fibra óptica", 10,IF(I33="Fibra óptica + Enlace de rádio de frequência licenciada",8,IF(I33="Fibra óptica + Rede móvel 4G/5G",6,IF(I33="Enlace de rádio de frequência licenciada",5,IF(I33="Fibra óptica + Satélite",3,IF(I33="Enlace de rádio de frequência licenciada + Satélite",2,IF(I33="Satélite",1,0))))))) -> 0 | L33: =IF(K33="Sim, em ambas as pontas",5,IF(K33="Sim, apenas na ponta do PoP",3,IF(K33="Sim, apenas na ponta do Campus",2,IF(K33="Não",1,0)))) -> 0 | P33: =IF(AND(0<O33,O33<=30),10,IF(AND(31<=O33,O33<=45),8,IF(AND(46<=O33,O33<=60),6,IF(AND(61<=O33,O33<=90),2,0)))) -> 0 | U33: =SUM(H33,J33,L33,P33) -> 0 | V33: 0 | W33: 0 | X33: =(V33*24)+W33 -> 0
A545: Circuito Metro Ethernet
A546: Circuito Metro Ethernet com 5G FWA
A547: Porta IP com túnel GRE
A548: Fibra óptica
A549: Fibra óptica + Enlace de rádio de frequência licenciada
A550: Fibra óptica + Rede móvel 4G/5G
A551: Enlace de rádio de frequência licenciada
A552: Fibra óptica + Satélite
A553: Enlace de rádio de frequência licenciada + Satélite
A554: Satélite
A555: Infraestrutura própria
A556: Infraestrutura de parceiro
... A561: Não

Sheet Endereços Ponta A
A1: PoP de conexão | B1: Endereço do PoP | C1: Georeferenciamento PoP | D1: Contato técnico local do PoP | E1: CNPJ do PoP
A2: PoP-ES | B2: Ufes Avenida Fernando Ferrari, s/n, Núcleo de Processamento de Dados da UFES, Goiabeiras, Vitória, ES CEP.: 29060-900 | C2: -20.277323,-40.304187 | D2: Nome: Luiz Guilherme Bergasmachi Bueloni E-mail: luiz.bueloni@pop-es.rnp.br Tels.: (27) 4009-2257 / (27) 4009-2089 / (27) 3020-2206 | E2: 032.479.123/0001-43
A3: PoP-GO | B3: UFG Praça Universitária, s/n, Prédio da UFGNet, Escola de Engenharia, Goiânia, GO CEP.: 74605-220 | C3: -16.677372,-49.243683 | D3: Nome: Daniel Stone E-mails: stone@pop-go.rnp.br / stone@ufg.br Tels.: (62) 3209-6002 / 3521-1330 | E3: 001.567.601/0001-43
A4: PoP-MG | B4: Ufmg Avenida Antônio Carlos, 6627, Prédio do ICEx, 3º andar, Sala 3050, Cidade Universitária, Pampulha, Belo Horizonte, MG CEP.: 31270-901 | C4: -19.870103,-43.961459 | D4: Nome: Marcelo Oliveira E-mail: marcelo.oliveira@rnp.br Tel.: (31) 3409-5829 | E4: 017.217.985/0001-04
A5: PoP-MT | B5: Ufmt CPD (Gerência Internet) Avenida Fernando Correa da Costa, 2.637, Boa Esperança, Cuiabá, MT CEP.: 78060-900 | C5: -15.617465,-56.069535 | D5: Nome: Jean Caminha E-mail: jean.caminha@pop-mt.rnp.br Tels.: (65) 3615-8245 / (65) 98471-3671 | E5: 033.004.540/0001-00
A6: PoP-RJ | B6: Lncc Rua Lauro Müller, 455, Botafogo, Rio de Janeiro, RJ CEP.: 22290-160 | C6: -22.954072,-43.174311 | D6: Nome: Pedro Henrique Diniz E-mail: pedro.diniz@rnp.br Tel.: (21) 2141-7474 | E6: 004.079.233/0001-82
A7: PoP-SP | B7: NIC.br Avenida João Dias, 3163, Santo Amaro, São Paulo, SP CEP.: 04723-003 | C7: -23.645191,-46.7306499 | D7: Nome: Rogério Herrera Mendonca E-mail: rogerio@pop-sp.rnp.br Tel.: (11) 3091-8901 | E7: não informado

Sheet Endereços Ponta B
A1: Endereços das pontas A (PoP de conexão) e B (Organização Usuária da RNP)
A2: # | B2: UF | C2: Organização Usuária | D2: Campus | E2: Banda a contratar (Mb/s) | F2: Endereço Campus | G2: Georeferenciamento Campus | H2: Contato técnico local do Campus | I2: PoP de conexão | J2: Endereço do PoP | K2: Georeferenciamento PoP | L2: Contato técnico local do PoP | M2: CNPJ do PoP
A3: 1 | B3: ES | C3: Centro de Tecnologia Mineral (CETEM) | D3: Núcleo Regional de Cachoeiro de Itapemirim | E3: 1000 | F3: Rodovia Cachoeiro Alegre, s/n, Morro Grande, Cachoeiro de Itapemirim, ES | G3: -20.801307, -41.154037 | H3: Nome: Francisco W. Hollanda Vidal Telefone: (21) 3865-7276 E-mail: fhollanda@cetem.gov.br Nome: Nuria Fernandes Castro Telefone: (28) 3511-8937 E-mail: ncastro@cetem.gov.br | I3: PoP-ES | J3: =VLOOKUP(I3,'Endereços Ponta A'!$A$2:$E$29,2,TRUE) -> Ufes Avenida Fernando Ferrari, s/n, Núcleo de Processamento de Dados da UFES, Goiabeiras, Vitória, ES CEP.: 29060-900 | K3: =VLOOKUP(I3,'Endereços Ponta A'!$A$2:$E$29,3,TRUE) -> -20.277323,-40.304187 | L3: =VLOOKUP(I3,'Endereços Ponta A'!$A$2:$E$29,4,TRUE) -> Nome: Luiz Guilherme Bergasmachi Bueloni E-mail: luiz.bueloni@pop-es.rnp.br Tels.: (27) 4009-2257 / (27) 4009-2089 / (27) 3020-2206 | M3: =VLOOKUP(I3,'Endereços Ponta A'!$A$2:$E$29,5,TRUE) -> 032.479.123/0001-43
A4: 2 | B4: ES | C4: Instituto Federal de Educação, Ciência e Tecnologia do Espírito Santo (IFES) | D4: Campus Cachoeiro do Itapemirim | E4: 1000 | F4: Rodovia Engenheiro Fabiano Vivácqua, 1.568, Morro Grande, Cachoeiro de Itapemirim, ES | G4: -20.802105, -41.155730 | H4: Nome: André Nunes Dezan Telefones: (27) 98808-1209 / (28) 3526-9027 E-mail: andre@ifes.edu.br | I4: POP-ES | J4: =VLOOKUP(I4,'Endereços Ponta A'!$A$2:$E$29,2,TRUE) -> Ufes Avenida Fernando Ferrari, s/n, Núcleo de Processamento de Dados da UFES, Goiabeiras, Vitória, ES CEP.: 29060-900 | K4: =VLOOKUP(I4,'Endereços Ponta A'!$A$2:$E$29,3,TRUE) -> -20.277323,-40.304187 | L4: =VLOOKUP(I4,'Endereços Ponta A'!$A$2:$E$29,4,TRUE) -> Nome: Luiz Guilherme Bergasmachi Bueloni E-mail: luiz.bueloni@pop-es.rnp.br Tels.: (27) 4009-2257 / (27) 4009-2089 / (27) 3020-2206 | M4: =VLOOKUP(I4,'Endereços Ponta A'!$A$2:$E$29,5,TRUE) -> 032.479.123/0001-43
A5: 3 | B5: MG | C5: Instituto Federal de Educação, Ciência e Tecnologia de Minas Gerais (IFMG) | D5: Campus Reitoria | E5: 1000 | F5: Avenida Professor Mario Wernwck, 2590, Belo Horizonte, MG | G5: -19.975910608031754, -43.97055196725598 | H5: Nome: Luiz Henrique Ferreira e Pereira E-mail: luiz.henrique@ifmg.edu.br | I5: PoP-MG | J5: =VLOOKUP(I5,'Endereços Ponta A'!$A$2:$E$29,2,TRUE) -> Ufmg Avenida Antônio Carlos, 6627, Prédio do ICEx, 3º andar, Sala 3050, Cidade Universitária, Pampulha, Belo Horizonte, MG CEP.: 31270-901 | K5: =VLOOKUP(I5,'Endereços Ponta A'!$A$2:$E$29,3,TRUE) -> -19.870103,-43.961459 | L5: =VLOOKUP(I5,'Endereços Ponta A'!$A$2:$E$29,4,TRUE) -> Nome: Marcelo Oliveira E-mail: marcelo.oliveira@rnp.br Tel.: (31) 3409-5829 | M5: =VLOOKUP(I5,'Endereços Ponta A'!$A$2:$E$29,5,TRUE) -> 017.217.985/0001-04
A6: 4 | B6: MG | C6: Instituto Federal de Educação, Ciência e Tecnologia do Norte de Minas Gerais (IFNMG) | D6: Campus Arinos | E6: 1000 | F6: Rodovia MG-202, Km 392, Arinos, MG | G6: -15.92239174562404, -46.134943701349584 | H6: Nome: Edmilson Tadeu Cassani E-mail: dg.arinos@ifnmg.edu.br Tel: (38) 99131-5899 | I6: PoP-MG | J6: =VLOOKUP(I6,'Endereços Ponta A'!$A$2:$E$29,2,TRUE) -> Ufmg Avenida Antônio Carlos, 6627, Prédio do ICEx, 3º andar, Sala 3050, Cidade Universitária, Pampulha, Belo Horizonte, MG CEP.: 31270-901 | K6: =VLOOKUP(I6,'Endereços Ponta A'!$A$2:$E$29,3,TRUE) -> -19.870103,-43.961459 | L6: =VLOOKUP(I6,'Endereços Ponta A'!$A$2:$E$29,4,TRUE) -> Nome: Marcelo Oliveira E-mail: marcelo.oliveira@rnp.br Tel.: (31) 3409-5829 | M6: =VLOOKUP(I6,'Endereços Ponta A'!$A$2:$E$29,5,TRUE) -> 017.217.985/0001-04
A7: 5 | B7: MG | C7: Instituto Federal de Educação, Ciência e Tecnologia do Sul de Minas Gerais (IFSulMG) | D7: Campus Inconfidentes | E7: 1000 | F7: Praça Tiradentes, 416, Inconfidentes, MG | G7: -22.318521043491096, -46.328317903846866 | H7: Nome: Gilcimar Dallo E-mail: gilcimar.dallo@ifsuldeminas.edu.br Tel: (35) 3464-1200 | I7: PoP-MG | J7: =VLOOKUP(I7,'Endereços Ponta A'!$A$2:$E$29,2,TRUE) -> Ufmg Avenida Antônio Carlos, 6627, Prédio do ICEx, 3º andar, Sala 3050, Cidade Universitária, Pampulha, Belo Horizonte, MG CEP.: 31270-901 | K7: =VLOOKUP(I7,'Endereços Ponta A'!$A$2:$E$29,3,TRUE) -> -19.870103,-43.961459 | L7: =VLOOKUP(I7,'Endereços Ponta A'!$A$2:$E$29,4,TRUE) -> Nome: Marcelo Oliveira E-mail: marcelo.oliveira@rnp.br Tel.: (31) 3409-5829 | M7: =VLOOKUP(I7,'Endereços Ponta A'!$A$2:$E$29,5,TRUE) -> 017.217.985/0001-04
A8: 6 | B8: MG | C8: Instituto Federal de Educação, Ciência e Tecnologia do Triângulo Mineiro (IFTM) | D8: Campus Avançado Campina Verde | E8: 1000 | F8: Rodovia BR-364, Km 153, Campina Verde, MG | G8: -19.541144679390833, -49.519325453765035 | H8: Nome: Waldemar Pamplona Da Silva E-mail: w.pamplona@iftm.edu.br Telefone: (34) 99181-4785 | I8: PoP-MG | J8: =VLOOKUP(I8,'Endereços Ponta A'!$A$2:$E$29,2,TRUE) -> Ufmg Avenida Antônio Carlos, 6627, Prédio do ICEx, 3º andar, Sala 3050, Cidade Universitária, Pampulha, Belo Horizonte, MG CEP.: 31270-901 | K8: =VLOOKUP(I8,'Endereços Ponta A'!$A$2:$E$29,3,TRUE) -> -19.870103,-43.961459 | L8: =VLOOKUP(I8,'Endereços Ponta A'!$A$2:$E$29,4,TRUE) -> Nome: Marcelo Oliveira E-mail: marcelo.oliveira@rnp.br Tel.: (31) 3409-5829 | M8: =VLOOKUP(I8,'Endereços Ponta A'!$A$2:$E$29,5,TRUE) -> 017.217.985/0001-04
A9: 7 | B9: MG | C9: Instituto Federal de Educação, Ciência e Tecnologia do Triângulo Mineiro (IFTM) | D9: Campus Paracatu | E9: 1000 | F9: Rodovia MG-188, Km 167, Paracatu, MG | G9: -17.24694153058793, -46.88079608360673 | H9: Nome: Lorenzzo Egydio Mollinar Da Cruz E-mail: lorenzzo@iftm.edu.br Telefone: (38) 99160-2310 | I9: PoP-MG | J9: =VLOOKUP(I9,'Endereços Ponta A'!$A$2:$E$29,2,TRUE) -> Ufmg Avenida Antônio Carlos, 6627, Prédio do ICEx, 3º andar, Sala 3050, Cidade Universitária, Pampulha, Belo Horizonte, MG CEP.: 31270-901 | K9: =VLOOKUP(I9,'Endereços Ponta A'!$A$2:$E$29,3,TRUE) -> -19.870103,-43.961459 | L9: =VLOOKUP(I9,'Endereços Ponta A'!$A$2:$E$29,4,TRUE) -> Nome: Marcelo Oliveira E-mail: marcelo.oliveira@rnp.br Tel.: (31) 3409-5829 | M9: =VLOOKUP(I9,'Endereços Ponta A'!$A$2:$E$29,5,TRUE) -> 017.217.985/0001-04
A10: 8 | B10: MG | C10: Instituto Federal de Educação, Ciência e Tecnologia do Sudeste de Minas Gerais (IFSudesteMG) | D10: Campus Avançado Ubá | E10: 1000 | F10: Rodovia MGT 265, km 83, Rua Ubá, s/n, Horto Florestal, Ubá, MG | G10: -21.120272060963174, -42.96839483733537 | H10: Nome: Alexandre Rocha Duarte E-mail: alexandre.duarte@ifsudestemg.edu.br Telefone: (32) 3257-4124 | I10: PoP-MG | J10: =VLOOKUP(I10,'Endereços Ponta A'!$A$2:$E$29,2,TRUE) -> Ufmg Avenida Antônio Carlos, 6627, Prédio do ICEx, 3º andar, Sala 3050, Cidade Universitária, Pampulha, Belo Horizonte, MG CEP.: 31270-901 | K10: =VLOOKUP(I10,'Endereços Ponta A'!$A$2:$E$29,3,TRUE) -> -19.870103,-43.961459 | L10: =VLOOKUP(I10,'Endereços Ponta A'!$A$2:$E$29,4,TRUE) -> Nome: Marcelo Oliveira E-mail: marcelo.oliveira@rnp.br Tel.: (31) 3409-5829 | M10: =VLOOKUP(I10,'Endereços Ponta A'!$A$2:$E$29,5,TRUE) -> 017.217.985/0001-04
A11: 9 | B11: MG | C11: Laboratório Nacional de Astrofísica (LNA) | D11: Observatório do Pico dos Dias | E11: 1000 | F11: Estrada Observatório, s/n, Brasópolis, MG | G11: -22.534349593456092, -45.58183678018698 | H11: Nome: Ivanildo Farias Santiago E-mail: ivanildo@lna.br Telefone: (35) 3629-8142 | I11: PoP-MG | J11: =VLOOKUP(I11,'Endereços Ponta A'!$A$2:$E$29,2,TRUE) -> Ufmg Avenida Antônio Carlos, 6627, Prédio do ICEx, 3º andar, Sala 3050, Cidade Universitária, Pampulha, Belo Horizonte, MG CEP.: 31270-901 | K11: =VLOOKUP(I11,'Endereços Ponta A'!$A$2:$E$29,3,TRUE) -> -19.870103,-43.961459 | L11: =VLOOKUP(I11,'Endereços Ponta A'!$A$2:$E$29,4,TRUE) -> Nome: Marcelo Oliveira E-mail: marcelo.oliveira@rnp.br Tel.: (31) 3409-5829 | M11: =VLOOKUP(I11,'Endereços Ponta A'!$A$2:$E$29,5,TRUE) -> 017.217.985/0001-04
A12: 10 | B12: MG | C12: Universidade Federal de Juiz de Fora (UFJF) | D12: Campus Juiz de Fora | E12: 2000 | F12: Rua José Lourenço Kelmer, s/n, Juiz de Fora, MG | G12: -21.773245202769537, -43.36899582246228 | H12: Nome: José Aparecido Da Silva E-mail: jose.aparecido@ufjf.edu.br Telefone: (32) 2102-3381 | I12: PoP-MG | J12: =VLOOKUP(I12,'Endereços Ponta A'!$A$2:$E$29,2,TRUE) -> Ufmg Avenida Antônio Carlos, 6627, Prédio do ICEx, 3º andar, Sala 3050, Cidade Universitária, Pampulha, Belo Horizonte, MG CEP.: 31270-901 | K12: =VLOOKUP(I12,'Endereços Ponta A'!$A$2:$E$29,3,TRUE) -> -19.870103,-43.961459 | L12: =VLOOKUP(I12,'Endereços Ponta A'!$A$2:$E$29,4,TRUE) -> Nome: Marcelo Oliveira E-mail: marcelo.oliveira@rnp.br Tel.: (31) 3409-5829 | M12: =VLOOKUP(I12,'Endereços Ponta A'!$A$2:$E$29,5,TRUE) -> 017.217.985/0001-04
A13: 11 | B13: MG | C13: Universidade Federal de Minas Gerais (UFMG) | D13: Observatório Astronômico Frei Rosário | E13: 1000 | F13: Alto da Serra da Piedade, s/n, Zona Rural (Distrito Penedia), Caeté, MG | G13: -19.82261739436278, -43.6792338259439 | H13: Nome: Renato Las Casas E-mail: renato@fisica.ufmg.br Telefones: (31) 3409-6643/5679 | I13: PoP-MG | J13: =VLOOKUP(I13,'Endereços Ponta A'!$A$2:$E$29,2,TRUE) -> Ufmg Avenida Antônio Carlos, 6627, Prédio do ICEx, 3º andar, Sala 3050, Cidade Universitária, Pampulha, Belo Horizonte, MG CEP.: 31270-901 | K13: =VLOOKUP(I13,'Endereços Ponta A'!$A$2:$E$29,3,TRUE) -> -19.870103,-43.961459 | L13: =VLOOKUP(I13,'Endereços Ponta A'!$A$2:$E$29,4,TRUE) -> Nome: Marcelo Oliveira E-mail: marcelo.oliveira@rnp.br Tel.: (31) 3409-5829 | M13: =VLOOKUP(I13,'Endereços Ponta A'!$A$2:$E$29,5,TRUE) -> 017.217.985/0001-04
A14: 12 | B14: MG | C14: Universidade Federal de Viçosa (UFV) | D14: Central de Experimentação, Pesquisa e Extensão do Triângulo Mineiro | E14: 1000 | F14: Rodovia MG-154, Km 27, Capinópolis, MG | G14: -18.723044347286923, -49.56005810694142 | H14: Nome: Fabiano Mario Fialho E-mail: fabiano@ufv.br Telefone: (31) 3899-2524 | I14: PoP-MG | J14: =VLOOKUP(I14,'Endereços Ponta A'!$A$2:$E$29,2,TRUE) -> Ufmg Avenida Antônio Carlos, 6627, Prédio do ICEx, 3º andar, Sala 3050, Cidade Universitária, Pampulha, Belo Horizonte, MG CEP.: 31270-901 | K14: =VLOOKUP(I14,'Endereços Ponta A'!$A$2:$E$29,3,TRUE) -> -19.870103,-43.961459 | L14: =VLOOKUP(I14,'Endereços Ponta A'!$A$2:$E$29,4,TRUE) -> Nome: Marcelo Oliveira E-mail: marcelo.oliveira@rnp.br Tel.: (31) 3409-5829 | M14: =VLOOKUP(I14,'Endereços Ponta A'!$A$2:$E$29,5,TRUE) -> 017.217.985/0001-04
... A32: 30 | B32: GO | C32: Universidade Federal de Goiás (UFG) | D32: Campus Cidade Ocidental | E32: 1000 | F32: Quadra 16, s/n, Super Quadra, Cidade Ocidental, GO | G32: -16.107494121911927, -47.93071541102783 | H32: Nome: Jean Teixeira de Lima Telefone: (62) 3521-1253 E-mail: jeanteixeira@ufg.br | I32: PoP-GO | J32: =VLOOKUP(I32,'Endereços Ponta A'!$A$2:$E$29,2,TRUE) -> UFG Praça Universitária, s/n, Prédio da UFGNet, Escola de Engenharia, Goiânia, GO CEP.: 74605-220 | K32: =VLOOKUP(I32,'Endereços Ponta A'!$A$2:$E$29,3,TRUE) -> -16.677372,-49.243683 | L32: =VLOOKUP(I32,'Endereços Ponta A'!$A$2:$E$29,4,TRUE) -> Nome: Daniel Stone E-mails: stone@pop-go.rnp.br / stone@ufg.br Tels.: (62) 3209-6002 / 3521-1330 | M32: =VLOOKUP(I32,'Endereços Ponta A'!$A$2:$E$29,5,TRUE) -> 001.567.601/0001-43
